{"text_format":"1","workbook":"xlsx","n_sheets":4,"sheets":["台帳","長形3号窓明","長形3号横","角形2号横"],"not_rendered":{"charts":0,"images":0,"macros":1,"external_links":0,"defined_names":3,"comments":1,"pivot_tables":0},"unopened":[],"bounds":{"document_bytes":16777216,"sheet_cells":100000,"rows_first":2000,"rows_last":500,"rows_between":2000,"halvings":0,"cell_chars":16384,"cell_head_chars":4096},"cells_cut":0,"cells_raw":0,"read":"whole","date_system":"1900"}

{"sheet":"台帳","index":0,"n_rows":501,"n_cols":7,"rows_kept":501,"cut":false,"hidden":false,"merged":[]}
["送付先台帳"]
["No.","氏名","郵便番号","都道府県","住所","マンション、アパート等","備考"]
[1,"○○　○○","1112222",null,"○○市○○町○○〇ー〇","○○ビル4F"]
[2,"△△　△△","1234567",null,"△△市△△町△△△ー△"]
[3,"□□　□□","3334444",null,"□□市□□町□□□ー□","サンライズ203号"]
[]
[]
[]
[]
[]
[]
[]
[]
[]
[]
[]
[]
[]
[]
[]
[]
[]
[]
[]
[]
[]
[]
[]
[]
[]
[]
[]
[]
[]
[]
[]
[]
[]
[]
[]
[]
[]
[]
[]
[]
[]
[]
[]
[]
[]
[]
[]
[]
[]
[]
[]
[]
[]
[]
[]
[]
[]
[]
[]
[]
[]
[]
[]
[]
[]
[null,null,null,null,{"$f":"IF(C71=\"\",\"\",IFERROR(VLOOKUP(C71,#REF!,3,0)&VLOOKUP(C71,#REF!,4,0),VLOOKUP(TEXT(C71,\"@\"),#REF!,3,0)&VLOOKUP(TEXT(C71,\"@\"),#REF!,4,0)))","v":""}]
[null,null,null,null,{"$f":"IF(C72=\"\",\"\",IFERROR(VLOOKUP(C72,#REF!,3,0)&VLOOKUP(C72,#REF!,4,0),VLOOKUP(TEXT(C72,\"@\"),#REF!,3,0)&VLOOKUP(TEXT(C72,\"@\"),#REF!,4,0)))","v":""}]
[null,null,null,null,{"$f":"IF(C73=\"\",\"\",IFERROR(VLOOKUP(C73,#REF!,3,0)&VLOOKUP(C73,#REF!,4,0),VLOOKUP(TEXT(C73,\"@\"),#REF!,3,0)&VLOOKUP(TEXT(C73,\"@\"),#REF!,4,0)))","v":""}]
[null,null,null,null,{"$f":"IF(C74=\"\",\"\",IFERROR(VLOOKUP(C74,#REF!,3,0)&VLOOKUP(C74,#REF!,4,0),VLOOKUP(TEXT(C74,\"@\"),#REF!,3,0)&VLOOKUP(TEXT(C74,\"@\"),#REF!,4,0)))","v":""}]
[null,null,null,null,{"$f":"IF(C75=\"\",\"\",IFERROR(VLOOKUP(C75,#REF!,3,0)&VLOOKUP(C75,#REF!,4,0),VLOOKUP(TEXT(C75,\"@\"),#REF!,3,0)&VLOOKUP(TEXT(C75,\"@\"),#REF!,4,0)))","v":""}]
[null,null,null,null,{"$f":"IF(C76=\"\",\"\",IFERROR(VLOOKUP(C76,#REF!,3,0)&VLOOKUP(C76,#REF!,4,0),VLOOKUP(TEXT(C76,\"@\"),#REF!,3,0)&VLOOKUP(TEXT(C76,\"@\"),#REF!,4,0)))","v":""}]
[null,null,null,null,{"$f":"IF(C77=\"\",\"\",IFERROR(VLOOKUP(C77,#REF!,3,0)&VLOOKUP(C77,#REF!,4,0),VLOOKUP(TEXT(C77,\"@\"),#REF!,3,0)&VLOOKUP(TEXT(C77,\"@\"),#REF!,4,0)))","v":""}]
[null,null,null,null,{"$f":"IF(C78=\"\",\"\",IFERROR(VLOOKUP(C78,#REF!,3,0)&VLOOKUP(C78,#REF!,4,0),VLOOKUP(TEXT(C78,\"@\"),#REF!,3,0)&VLOOKUP(TEXT(C78,\"@\"),#REF!,4,0)))","v":""}]
[null,null,null,null,{"$f":"IF(C79=\"\",\"\",IFERROR(VLOOKUP(C79,#REF!,3,0)&VLOOKUP(C79,#REF!,4,0),VLOOKUP(TEXT(C79,\"@\"),#REF!,3,0)&VLOOKUP(TEXT(C79,\"@\"),#REF!,4,0)))","v":""}]
[null,null,null,null,{"$f":"IF(C80=\"\",\"\",IFERROR(VLOOKUP(C80,#REF!,3,0)&VLOOKUP(C80,#REF!,4,0),VLOOKUP(TEXT(C80,\"@\"),#REF!,3,0)&VLOOKUP(TEXT(C80,\"@\"),#REF!,4,0)))","v":""}]
[null,null,null,null,{"$f":"IF(C81=\"\",\"\",IFERROR(VLOOKUP(C81,#REF!,3,0)&VLOOKUP(C81,#REF!,4,0),VLOOKUP(TEXT(C81,\"@\"),#REF!,3,0)&VLOOKUP(TEXT(C81,\"@\"),#REF!,4,0)))","v":""}]
[null,null,null,null,{"$f":"IF(C82=\"\",\"\",IFERROR(VLOOKUP(C82,#REF!,3,0)&VLOOKUP(C82,#REF!,4,0),VLOOKUP(TEXT(C82,\"@\"),#REF!,3,0)&VLOOKUP(TEXT(C82,\"@\"),#REF!,4,0)))","v":""}]
[null,null,null,null,{"$f":"IF(C83=\"\",\"\",IFERROR(VLOOKUP(C83,#REF!,3,0)&VLOOKUP(C83,#REF!,4,0),VLOOKUP(TEXT(C83,\"@\"),#REF!,3,0)&VLOOKUP(TEXT(C83,\"@\"),#REF!,4,0)))","v":""}]
[null,null,null,null,{"$f":"IF(C84=\"\",\"\",IFERROR(VLOOKUP(C84,#REF!,3,0)&VLOOKUP(C84,#REF!,4,0),VLOOKUP(TEXT(C84,\"@\"),#REF!,3,0)&VLOOKUP(TEXT(C84,\"@\"),#REF!,4,0)))","v":""}]
[null,null,null,null,{"$f":"IF(C85=\"\",\"\",IFERROR(VLOOKUP(C85,#REF!,3,0)&VLOOKUP(C85,#REF!,4,0),VLOOKUP(TEXT(C85,\"@\"),#REF!,3,0)&VLOOKUP(TEXT(C85,\"@\"),#REF!,4,0)))","v":""}]
[null,null,null,null,{"$f":"IF(C86=\"\",\"\",IFERROR(VLOOKUP(C86,#REF!,3,0)&VLOOKUP(C86,#REF!,4,0),VLOOKUP(TEXT(C86,\"@\"),#REF!,3,0)&VLOOKUP(TEXT(C86,\"@\"),#REF!,4,0)))","v":""}]
[null,null,null,null,{"$f":"IF(C87=\"\",\"\",IFERROR(VLOOKUP(C87,#REF!,3,0)&VLOOKUP(C87,#REF!,4,0),VLOOKUP(TEXT(C87,\"@\"),#REF!,3,0)&VLOOKUP(TEXT(C87,\"@\"),#REF!,4,0)))","v":""}]
[null,null,null,null,{"$f":"IF(C88=\"\",\"\",IFERROR(VLOOKUP(C88,#REF!,3,0)&VLOOKUP(C88,#REF!,4,0),VLOOKUP(TEXT(C88,\"@\"),#REF!,3,0)&VLOOKUP(TEXT(C88,\"@\"),#REF!,4,0)))","v":""}]
[null,null,null,null,{"$f":"IF(C89=\"\",\"\",IFERROR(VLOOKUP(C89,#REF!,3,0)&VLOOKUP(C89,#REF!,4,0),VLOOKUP(TEXT(C89,\"@\"),#REF!,3,0)&VLOOKUP(TEXT(C89,\"@\"),#REF!,4,0)))","v":""}]
[null,null,null,null,{"$f":"IF(C90=\"\",\"\",IFERROR(VLOOKUP(C90,#REF!,3,0)&VLOOKUP(C90,#REF!,4,0),VLOOKUP(TEXT(C90,\"@\"),#REF!,3,0)&VLOOKUP(TEXT(C90,\"@\"),#REF!,4,0)))","v":""}]
[null,null,null,null,{"$f":"IF(C91=\"\",\"\",IFERROR(VLOOKUP(C91,#REF!,3,0)&VLOOKUP(C91,#REF!,4,0),VLOOKUP(TEXT(C91,\"@\"),#REF!,3,0)&VLOOKUP(TEXT(C91,\"@\"),#REF!,4,0)))","v":""}]
[null,null,null,null,{"$f":"IF(C92=\"\",\"\",IFERROR(VLOOKUP(C92,#REF!,3,0)&VLOOKUP(C92,#REF!,4,0),VLOOKUP(TEXT(C92,\"@\"),#REF!,3,0)&VLOOKUP(TEXT(C92,\"@\"),#REF!,4,0)))","v":""}]
[null,null,null,null,{"$f":"IF(C93=\"\",\"\",IFERROR(VLOOKUP(C93,#REF!,3,0)&VLOOKUP(C93,#REF!,4,0),VLOOKUP(TEXT(C93,\"@\"),#REF!,3,0)&VLOOKUP(TEXT(C93,\"@\"),#REF!,4,0)))","v":""}]
[null,null,null,null,{"$f":"IF(C94=\"\",\"\",IFERROR(VLOOKUP(C94,#REF!,3,0)&VLOOKUP(C94,#REF!,4,0),VLOOKUP(TEXT(C94,\"@\"),#REF!,3,0)&VLOOKUP(TEXT(C94,\"@\"),#REF!,4,0)))","v":""}]
[null,null,null,null,{"$f":"IF(C95=\"\",\"\",IFERROR(VLOOKUP(C95,#REF!,3,0)&VLOOKUP(C95,#REF!,4,0),VLOOKUP(TEXT(C95,\"@\"),#REF!,3,0)&VLOOKUP(TEXT(C95,\"@\"),#REF!,4,0)))","v":""}]
[null,null,null,null,{"$f":"IF(C96=\"\",\"\",IFERROR(VLOOKUP(C96,#REF!,3,0)&VLOOKUP(C96,#REF!,4,0),VLOOKUP(TEXT(C96,\"@\"),#REF!,3,0)&VLOOKUP(TEXT(C96,\"@\"),#REF!,4,0)))","v":""}]
[null,null,null,null,{"$f":"IF(C97=\"\",\"\",IFERROR(VLOOKUP(C97,#REF!,3,0)&VLOOKUP(C97,#REF!,4,0),VLOOKUP(TEXT(C97,\"@\"),#REF!,3,0)&VLOOKUP(TEXT(C97,\"@\"),#REF!,4,0)))","v":""}]
[null,null,null,null,{"$f":"IF(C98=\"\",\"\",IFERROR(VLOOKUP(C98,#REF!,3,0)&VLOOKUP(C98,#REF!,4,0),VLOOKUP(TEXT(C98,\"@\"),#REF!,3,0)&VLOOKUP(TEXT(C98,\"@\"),#REF!,4,0)))","v":""}]
[null,null,null,null,{"$f":"IF(C99=\"\",\"\",IFERROR(VLOOKUP(C99,#REF!,3,0)&VLOOKUP(C99,#REF!,4,0),VLOOKUP(TEXT(C99,\"@\"),#REF!,3,0)&VLOOKUP(TEXT(C99,\"@\"),#REF!,4,0)))","v":""}]
[null,null,null,null,{"$f":"IF(C100=\"\",\"\",IFERROR(VLOOKUP(C100,#REF!,3,0)&VLOOKUP(C100,#REF!,4,0),VLOOKUP(TEXT(C100,\"@\"),#REF!,3,0)&VLOOKUP(TEXT(C100,\"@\"),#REF!,4,0)))","v":""}]
[null,null,null,null,{"$f":"IF(C101=\"\",\"\",IFERROR(VLOOKUP(C101,#REF!,3,0)&VLOOKUP(C101,#REF!,4,0),VLOOKUP(TEXT(C101,\"@\"),#REF!,3,0)&VLOOKUP(TEXT(C101,\"@\"),#REF!,4,0)))","v":""}]
[null,null,null,null,{"$f":"IF(C102=\"\",\"\",IFERROR(VLOOKUP(C102,#REF!,3,0)&VLOOKUP(C102,#REF!,4,0),VLOOKUP(TEXT(C102,\"@\"),#REF!,3,0)&VLOOKUP(TEXT(C102,\"@\"),#REF!,4,0)))","v":""}]
[null,null,null,null,{"$f":"IF(C103=\"\",\"\",IFERROR(VLOOKUP(C103,#REF!,3,0)&VLOOKUP(C103,#REF!,4,0),VLOOKUP(TEXT(C103,\"@\"),#REF!,3,0)&VLOOKUP(TEXT(C103,\"@\"),#REF!,4,0)))","v":""}]
[null,null,null,null,{"$f":"IF(C104=\"\",\"\",IFERROR(VLOOKUP(C104,#REF!,3,0)&VLOOKUP(C104,#REF!,4,0),VLOOKUP(TEXT(C104,\"@\"),#REF!,3,0)&VLOOKUP(TEXT(C104,\"@\"),#REF!,4,0)))","v":""}]
[null,null,null,null,{"$f":"IF(C105=\"\",\"\",IFERROR(VLOOKUP(C105,#REF!,3,0)&VLOOKUP(C105,#REF!,4,0),VLOOKUP(TEXT(C105,\"@\"),#REF!,3,0)&VLOOKUP(TEXT(C105,\"@\"),#REF!,4,0)))","v":""}]
[null,null,null,null,{"$f":"IF(C106=\"\",\"\",IFERROR(VLOOKUP(C106,#REF!,3,0)&VLOOKUP(C106,#REF!,4,0),VLOOKUP(TEXT(C106,\"@\"),#REF!,3,0)&VLOOKUP(TEXT(C106,\"@\"),#REF!,4,0)))","v":""}]
[null,null,null,null,{"$f":"IF(C107=\"\",\"\",IFERROR(VLOOKUP(C107,#REF!,3,0)&VLOOKUP(C107,#REF!,4,0),VLOOKUP(TEXT(C107,\"@\"),#REF!,3,0)&VLOOKUP(TEXT(C107,\"@\"),#REF!,4,0)))","v":""}]
[null,null,null,null,{"$f":"IF(C108=\"\",\"\",IFERROR(VLOOKUP(C108,#REF!,3,0)&VLOOKUP(C108,#REF!,4,0),VLOOKUP(TEXT(C108,\"@\"),#REF!,3,0)&VLOOKUP(TEXT(C108,\"@\"),#REF!,4,0)))","v":""}]
[null,null,null,null,{"$f":"IF(C109=\"\",\"\",IFERROR(VLOOKUP(C109,#REF!,3,0)&VLOOKUP(C109,#REF!,4,0),VLOOKUP(TEXT(C109,\"@\"),#REF!,3,0)&VLOOKUP(TEXT(C109,\"@\"),#REF!,4,0)))","v":""}]
[null,null,null,null,{"$f":"IF(C110=\"\",\"\",IFERROR(VLOOKUP(C110,#REF!,3,0)&VLOOKUP(C110,#REF!,4,0),VLOOKUP(TEXT(C110,\"@\"),#REF!,3,0)&VLOOKUP(TEXT(C110,\"@\"),#REF!,4,0)))","v":""}]
[null,null,null,null,{"$f":"IF(C111=\"\",\"\",IFERROR(VLOOKUP(C111,#REF!,3,0)&VLOOKUP(C111,#REF!,4,0),VLOOKUP(TEXT(C111,\"@\"),#REF!,3,0)&VLOOKUP(TEXT(C111,\"@\"),#REF!,4,0)))","v":""}]
[null,null,null,null,{"$f":"IF(C112=\"\",\"\",IFERROR(VLOOKUP(C112,#REF!,3,0)&VLOOKUP(C112,#REF!,4,0),VLOOKUP(TEXT(C112,\"@\"),#REF!,3,0)&VLOOKUP(TEXT(C112,\"@\"),#REF!,4,0)))","v":""}]
[null,null,null,null,{"$f":"IF(C113=\"\",\"\",IFERROR(VLOOKUP(C113,#REF!,3,0)&VLOOKUP(C113,#REF!,4,0),VLOOKUP(TEXT(C113,\"@\"),#REF!,3,0)&VLOOKUP(TEXT(C113,\"@\"),#REF!,4,0)))","v":""}]
[null,null,null,null,{"$f":"IF(C114=\"\",\"\",IFERROR(VLOOKUP(C114,#REF!,3,0)&VLOOKUP(C114,#REF!,4,0),VLOOKUP(TEXT(C114,\"@\"),#REF!,3,0)&VLOOKUP(TEXT(C114,\"@\"),#REF!,4,0)))","v":""}]
[null,null,null,null,{"$f":"IF(C115=\"\",\"\",IFERROR(VLOOKUP(C115,#REF!,3,0)&VLOOKUP(C115,#REF!,4,0),VLOOKUP(TEXT(C115,\"@\"),#REF!,3,0)&VLOOKUP(TEXT(C115,\"@\"),#REF!,4,0)))","v":""}]
[null,null,null,null,{"$f":"IF(C116=\"\",\"\",IFERROR(VLOOKUP(C116,#REF!,3,0)&VLOOKUP(C116,#REF!,4,0),VLOOKUP(TEXT(C116,\"@\"),#REF!,3,0)&VLOOKUP(TEXT(C116,\"@\"),#REF!,4,0)))","v":""}]
[null,null,null,null,{"$f":"IF(C117=\"\",\"\",IFERROR(VLOOKUP(C117,#REF!,3,0)&VLOOKUP(C117,#REF!,4,0),VLOOKUP(TEXT(C117,\"@\"),#REF!,3,0)&VLOOKUP(TEXT(C117,\"@\"),#REF!,4,0)))","v":""}]
[null,null,null,null,{"$f":"IF(C118=\"\",\"\",IFERROR(VLOOKUP(C118,#REF!,3,0)&VLOOKUP(C118,#REF!,4,0),VLOOKUP(TEXT(C118,\"@\"),#REF!,3,0)&VLOOKUP(TEXT(C118,\"@\"),#REF!,4,0)))","v":""}]
[null,null,null,null,{"$f":"IF(C119=\"\",\"\",IFERROR(VLOOKUP(C119,#REF!,3,0)&VLOOKUP(C119,#REF!,4,0),VLOOKUP(TEXT(C119,\"@\"),#REF!,3,0)&VLOOKUP(TEXT(C119,\"@\"),#REF!,4,0)))","v":""}]
[null,null,null,null,{"$f":"IF(C120=\"\",\"\",IFERROR(VLOOKUP(C120,#REF!,3,0)&VLOOKUP(C120,#REF!,4,0),VLOOKUP(TEXT(C120,\"@\"),#REF!,3,0)&VLOOKUP(TEXT(C120,\"@\"),#REF!,4,0)))","v":""}]
[null,null,null,null,{"$f":"IF(C121=\"\",\"\",IFERROR(VLOOKUP(C121,#REF!,3,0)&VLOOKUP(C121,#REF!,4,0),VLOOKUP(TEXT(C121,\"@\"),#REF!,3,0)&VLOOKUP(TEXT(C121,\"@\"),#REF!,4,0)))","v":""}]
[null,null,null,null,{"$f":"IF(C122=\"\",\"\",IFERROR(VLOOKUP(C122,#REF!,3,0)&VLOOKUP(C122,#REF!,4,0),VLOOKUP(TEXT(C122,\"@\"),#REF!,3,0)&VLOOKUP(TEXT(C122,\"@\"),#REF!,4,0)))","v":""}]
[null,null,null,null,{"$f":"IF(C123=\"\",\"\",IFERROR(VLOOKUP(C123,#REF!,3,0)&VLOOKUP(C123,#REF!,4,0),VLOOKUP(TEXT(C123,\"@\"),#REF!,3,0)&VLOOKUP(TEXT(C123,\"@\"),#REF!,4,0)))","v":""}]
[null,null,null,null,{"$f":"IF(C124=\"\",\"\",IFERROR(VLOOKUP(C124,#REF!,3,0)&VLOOKUP(C124,#REF!,4,0),VLOOKUP(TEXT(C124,\"@\"),#REF!,3,0)&VLOOKUP(TEXT(C124,\"@\"),#REF!,4,0)))","v":""}]
[null,null,null,null,{"$f":"IF(C125=\"\",\"\",IFERROR(VLOOKUP(C125,#REF!,3,0)&VLOOKUP(C125,#REF!,4,0),VLOOKUP(TEXT(C125,\"@\"),#REF!,3,0)&VLOOKUP(TEXT(C125,\"@\"),#REF!,4,0)))","v":""}]
[null,null,null,null,{"$f":"IF(C126=\"\",\"\",IFERROR(VLOOKUP(C126,#REF!,3,0)&VLOOKUP(C126,#REF!,4,0),VLOOKUP(TEXT(C126,\"@\"),#REF!,3,0)&VLOOKUP(TEXT(C126,\"@\"),#REF!,4,0)))","v":""}]
[null,null,null,null,{"$f":"IF(C127=\"\",\"\",IFERROR(VLOOKUP(C127,#REF!,3,0)&VLOOKUP(C127,#REF!,4,0),VLOOKUP(TEXT(C127,\"@\"),#REF!,3,0)&VLOOKUP(TEXT(C127,\"@\"),#REF!,4,0)))","v":""}]
[null,null,null,null,{"$f":"IF(C128=\"\",\"\",IFERROR(VLOOKUP(C128,#REF!,3,0)&VLOOKUP(C128,#REF!,4,0),VLOOKUP(TEXT(C128,\"@\"),#REF!,3,0)&VLOOKUP(TEXT(C128,\"@\"),#REF!,4,0)))","v":""}]
[null,null,null,null,{"$f":"IF(C129=\"\",\"\",IFERROR(VLOOKUP(C129,#REF!,3,0)&VLOOKUP(C129,#REF!,4,0),VLOOKUP(TEXT(C129,\"@\"),#REF!,3,0)&VLOOKUP(TEXT(C129,\"@\"),#REF!,4,0)))","v":""}]
[null,null,null,null,{"$f":"IF(C130=\"\",\"\",IFERROR(VLOOKUP(C130,#REF!,3,0)&VLOOKUP(C130,#REF!,4,0),VLOOKUP(TEXT(C130,\"@\"),#REF!,3,0)&VLOOKUP(TEXT(C130,\"@\"),#REF!,4,0)))","v":""}]
[null,null,null,null,{"$f":"IF(C131=\"\",\"\",IFERROR(VLOOKUP(C131,#REF!,3,0)&VLOOKUP(C131,#REF!,4,0),VLOOKUP(TEXT(C131,\"@\"),#REF!,3,0)&VLOOKUP(TEXT(C131,\"@\"),#REF!,4,0)))","v":""}]
[null,null,null,null,{"$f":"IF(C132=\"\",\"\",IFERROR(VLOOKUP(C132,#REF!,3,0)&VLOOKUP(C132,#REF!,4,0),VLOOKUP(TEXT(C132,\"@\"),#REF!,3,0)&VLOOKUP(TEXT(C132,\"@\"),#REF!,4,0)))","v":""}]
[null,null,null,null,{"$f":"IF(C133=\"\",\"\",IFERROR(VLOOKUP(C133,#REF!,3,0)&VLOOKUP(C133,#REF!,4,0),VLOOKUP(TEXT(C133,\"@\"),#REF!,3,0)&VLOOKUP(TEXT(C133,\"@\"),#REF!,4,0)))","v":""}]
[null,null,null,null,{"$f":"IF(C134=\"\",\"\",IFERROR(VLOOKUP(C134,#REF!,3,0)&VLOOKUP(C134,#REF!,4,0),VLOOKUP(TEXT(C134,\"@\"),#REF!,3,0)&VLOOKUP(TEXT(C134,\"@\"),#REF!,4,0)))","v":""}]
[null,null,null,null,{"$f":"IF(C135=\"\",\"\",IFERROR(VLOOKUP(C135,#REF!,3,0)&VLOOKUP(C135,#REF!,4,0),VLOOKUP(TEXT(C135,\"@\"),#REF!,3,0)&VLOOKUP(TEXT(C135,\"@\"),#REF!,4,0)))","v":""}]
[null,null,null,null,{"$f":"IF(C136=\"\",\"\",IFERROR(VLOOKUP(C136,#REF!,3,0)&VLOOKUP(C136,#REF!,4,0),VLOOKUP(TEXT(C136,\"@\"),#REF!,3,0)&VLOOKUP(TEXT(C136,\"@\"),#REF!,4,0)))","v":""}]
[null,null,null,null,{"$f":"IF(C137=\"\",\"\",IFERROR(VLOOKUP(C137,#REF!,3,0)&VLOOKUP(C137,#REF!,4,0),VLOOKUP(TEXT(C137,\"@\"),#REF!,3,0)&VLOOKUP(TEXT(C137,\"@\"),#REF!,4,0)))","v":""}]
[null,null,null,null,{"$f":"IF(C138=\"\",\"\",IFERROR(VLOOKUP(C138,#REF!,3,0)&VLOOKUP(C138,#REF!,4,0),VLOOKUP(TEXT(C138,\"@\"),#REF!,3,0)&VLOOKUP(TEXT(C138,\"@\"),#REF!,4,0)))","v":""}]
[null,null,null,null,{"$f":"IF(C139=\"\",\"\",IFERROR(VLOOKUP(C139,#REF!,3,0)&VLOOKUP(C139,#REF!,4,0),VLOOKUP(TEXT(C139,\"@\"),#REF!,3,0)&VLOOKUP(TEXT(C139,\"@\"),#REF!,4,0)))","v":""}]
[null,null,null,null,{"$f":"IF(C140=\"\",\"\",IFERROR(VLOOKUP(C140,#REF!,3,0)&VLOOKUP(C140,#REF!,4,0),VLOOKUP(TEXT(C140,\"@\"),#REF!,3,0)&VLOOKUP(TEXT(C140,\"@\"),#REF!,4,0)))","v":""}]
[null,null,null,null,{"$f":"IF(C141=\"\",\"\",IFERROR(VLOOKUP(C141,#REF!,3,0)&VLOOKUP(C141,#REF!,4,0),VLOOKUP(TEXT(C141,\"@\"),#REF!,3,0)&VLOOKUP(TEXT(C141,\"@\"),#REF!,4,0)))","v":""}]
[null,null,null,null,{"$f":"IF(C142=\"\",\"\",IFERROR(VLOOKUP(C142,#REF!,3,0)&VLOOKUP(C142,#REF!,4,0),VLOOKUP(TEXT(C142,\"@\"),#REF!,3,0)&VLOOKUP(TEXT(C142,\"@\"),#REF!,4,0)))","v":""}]
[null,null,null,null,{"$f":"IF(C143=\"\",\"\",IFERROR(VLOOKUP(C143,#REF!,3,0)&VLOOKUP(C143,#REF!,4,0),VLOOKUP(TEXT(C143,\"@\"),#REF!,3,0)&VLOOKUP(TEXT(C143,\"@\"),#REF!,4,0)))","v":""}]
[null,null,null,null,{"$f":"IF(C144=\"\",\"\",IFERROR(VLOOKUP(C144,#REF!,3,0)&VLOOKUP(C144,#REF!,4,0),VLOOKUP(TEXT(C144,\"@\"),#REF!,3,0)&VLOOKUP(TEXT(C144,\"@\"),#REF!,4,0)))","v":""}]
[null,null,null,null,{"$f":"IF(C145=\"\",\"\",IFERROR(VLOOKUP(C145,#REF!,3,0)&VLOOKUP(C145,#REF!,4,0),VLOOKUP(TEXT(C145,\"@\"),#REF!,3,0)&VLOOKUP(TEXT(C145,\"@\"),#REF!,4,0)))","v":""}]
[null,null,null,null,{"$f":"IF(C146=\"\",\"\",IFERROR(VLOOKUP(C146,#REF!,3,0)&VLOOKUP(C146,#REF!,4,0),VLOOKUP(TEXT(C146,\"@\"),#REF!,3,0)&VLOOKUP(TEXT(C146,\"@\"),#REF!,4,0)))","v":""}]
[null,null,null,null,{"$f":"IF(C147=\"\",\"\",IFERROR(VLOOKUP(C147,#REF!,3,0)&VLOOKUP(C147,#REF!,4,0),VLOOKUP(TEXT(C147,\"@\"),#REF!,3,0)&VLOOKUP(TEXT(C147,\"@\"),#REF!,4,0)))","v":""}]
[null,null,null,null,{"$f":"IF(C148=\"\",\"\",IFERROR(VLOOKUP(C148,#REF!,3,0)&VLOOKUP(C148,#REF!,4,0),VLOOKUP(TEXT(C148,\"@\"),#REF!,3,0)&VLOOKUP(TEXT(C148,\"@\"),#REF!,4,0)))","v":""}]
[null,null,null,null,{"$f":"IF(C149=\"\",\"\",IFERROR(VLOOKUP(C149,#REF!,3,0)&VLOOKUP(C149,#REF!,4,0),VLOOKUP(TEXT(C149,\"@\"),#REF!,3,0)&VLOOKUP(TEXT(C149,\"@\"),#REF!,4,0)))","v":""}]
[null,null,null,null,{"$f":"IF(C150=\"\",\"\",IFERROR(VLOOKUP(C150,#REF!,3,0)&VLOOKUP(C150,#REF!,4,0),VLOOKUP(TEXT(C150,\"@\"),#REF!,3,0)&VLOOKUP(TEXT(C150,\"@\"),#REF!,4,0)))","v":""}]
[null,null,null,null,{"$f":"IF(C151=\"\",\"\",IFERROR(VLOOKUP(C151,#REF!,3,0)&VLOOKUP(C151,#REF!,4,0),VLOOKUP(TEXT(C151,\"@\"),#REF!,3,0)&VLOOKUP(TEXT(C151,\"@\"),#REF!,4,0)))","v":""}]
[null,null,null,null,{"$f":"IF(C152=\"\",\"\",IFERROR(VLOOKUP(C152,#REF!,3,0)&VLOOKUP(C152,#REF!,4,0),VLOOKUP(TEXT(C152,\"@\"),#REF!,3,0)&VLOOKUP(TEXT(C152,\"@\"),#REF!,4,0)))","v":""}]
[null,null,null,null,{"$f":"IF(C153=\"\",\"\",IFERROR(VLOOKUP(C153,#REF!,3,0)&VLOOKUP(C153,#REF!,4,0),VLOOKUP(TEXT(C153,\"@\"),#REF!,3,0)&VLOOKUP(TEXT(C153,\"@\"),#REF!,4,0)))","v":""}]
[null,null,null,null,{"$f":"IF(C154=\"\",\"\",IFERROR(VLOOKUP(C154,#REF!,3,0)&VLOOKUP(C154,#REF!,4,0),VLOOKUP(TEXT(C154,\"@\"),#REF!,3,0)&VLOOKUP(TEXT(C154,\"@\"),#REF!,4,0)))","v":""}]
[null,null,null,null,{"$f":"IF(C155=\"\",\"\",IFERROR(VLOOKUP(C155,#REF!,3,0)&VLOOKUP(C155,#REF!,4,0),VLOOKUP(TEXT(C155,\"@\"),#REF!,3,0)&VLOOKUP(TEXT(C155,\"@\"),#REF!,4,0)))","v":""}]
[null,null,null,null,{"$f":"IF(C156=\"\",\"\",IFERROR(VLOOKUP(C156,#REF!,3,0)&VLOOKUP(C156,#REF!,4,0),VLOOKUP(TEXT(C156,\"@\"),#REF!,3,0)&VLOOKUP(TEXT(C156,\"@\"),#REF!,4,0)))","v":""}]
[null,null,null,null,{"$f":"IF(C157=\"\",\"\",IFERROR(VLOOKUP(C157,#REF!,3,0)&VLOOKUP(C157,#REF!,4,0),VLOOKUP(TEXT(C157,\"@\"),#REF!,3,0)&VLOOKUP(TEXT(C157,\"@\"),#REF!,4,0)))","v":""}]
[null,null,null,null,{"$f":"IF(C158=\"\",\"\",IFERROR(VLOOKUP(C158,#REF!,3,0)&VLOOKUP(C158,#REF!,4,0),VLOOKUP(TEXT(C158,\"@\"),#REF!,3,0)&VLOOKUP(TEXT(C158,\"@\"),#REF!,4,0)))","v":""}]
[null,null,null,null,{"$f":"IF(C159=\"\",\"\",IFERROR(VLOOKUP(C159,#REF!,3,0)&VLOOKUP(C159,#REF!,4,0),VLOOKUP(TEXT(C159,\"@\"),#REF!,3,0)&VLOOKUP(TEXT(C159,\"@\"),#REF!,4,0)))","v":""}]
[null,null,null,null,{"$f":"IF(C160=\"\",\"\",IFERROR(VLOOKUP(C160,#REF!,3,0)&VLOOKUP(C160,#REF!,4,0),VLOOKUP(TEXT(C160,\"@\"),#REF!,3,0)&VLOOKUP(TEXT(C160,\"@\"),#REF!,4,0)))","v":""}]
[null,null,null,null,{"$f":"IF(C161=\"\",\"\",IFERROR(VLOOKUP(C161,#REF!,3,0)&VLOOKUP(C161,#REF!,4,0),VLOOKUP(TEXT(C161,\"@\"),#REF!,3,0)&VLOOKUP(TEXT(C161,\"@\"),#REF!,4,0)))","v":""}]
[null,null,null,null,{"$f":"IF(C162=\"\",\"\",IFERROR(VLOOKUP(C162,#REF!,3,0)&VLOOKUP(C162,#REF!,4,0),VLOOKUP(TEXT(C162,\"@\"),#REF!,3,0)&VLOOKUP(TEXT(C162,\"@\"),#REF!,4,0)))","v":""}]
[null,null,null,null,{"$f":"IF(C163=\"\",\"\",IFERROR(VLOOKUP(C163,#REF!,3,0)&VLOOKUP(C163,#REF!,4,0),VLOOKUP(TEXT(C163,\"@\"),#REF!,3,0)&VLOOKUP(TEXT(C163,\"@\"),#REF!,4,0)))","v":""}]
[null,null,null,null,{"$f":"IF(C164=\"\",\"\",IFERROR(VLOOKUP(C164,#REF!,3,0)&VLOOKUP(C164,#REF!,4,0),VLOOKUP(TEXT(C164,\"@\"),#REF!,3,0)&VLOOKUP(TEXT(C164,\"@\"),#REF!,4,0)))","v":""}]
[null,null,null,null,{"$f":"IF(C165=\"\",\"\",IFERROR(VLOOKUP(C165,#REF!,3,0)&VLOOKUP(C165,#REF!,4,0),VLOOKUP(TEXT(C165,\"@\"),#REF!,3,0)&VLOOKUP(TEXT(C165,\"@\"),#REF!,4,0)))","v":""}]
[null,null,null,null,{"$f":"IF(C166=\"\",\"\",IFERROR(VLOOKUP(C166,#REF!,3,0)&VLOOKUP(C166,#REF!,4,0),VLOOKUP(TEXT(C166,\"@\"),#REF!,3,0)&VLOOKUP(TEXT(C166,\"@\"),#REF!,4,0)))","v":""}]
[null,null,null,null,{"$f":"IF(C167=\"\",\"\",IFERROR(VLOOKUP(C167,#REF!,3,0)&VLOOKUP(C167,#REF!,4,0),VLOOKUP(TEXT(C167,\"@\"),#REF!,3,0)&VLOOKUP(TEXT(C167,\"@\"),#REF!,4,0)))","v":""}]
[null,null,null,null,{"$f":"IF(C168=\"\",\"\",IFERROR(VLOOKUP(C168,#REF!,3,0)&VLOOKUP(C168,#REF!,4,0),VLOOKUP(TEXT(C168,\"@\"),#REF!,3,0)&VLOOKUP(TEXT(C168,\"@\"),#REF!,4,0)))","v":""}]
[null,null,null,null,{"$f":"IF(C169=\"\",\"\",IFERROR(VLOOKUP(C169,#REF!,3,0)&VLOOKUP(C169,#REF!,4,0),VLOOKUP(TEXT(C169,\"@\"),#REF!,3,0)&VLOOKUP(TEXT(C169,\"@\"),#REF!,4,0)))","v":""}]
[null,null,null,null,{"$f":"IF(C170=\"\",\"\",IFERROR(VLOOKUP(C170,#REF!,3,0)&VLOOKUP(C170,#REF!,4,0),VLOOKUP(TEXT(C170,\"@\"),#REF!,3,0)&VLOOKUP(TEXT(C170,\"@\"),#REF!,4,0)))","v":""}]
[null,null,null,null,{"$f":"IF(C171=\"\",\"\",IFERROR(VLOOKUP(C171,#REF!,3,0)&VLOOKUP(C171,#REF!,4,0),VLOOKUP(TEXT(C171,\"@\"),#REF!,3,0)&VLOOKUP(TEXT(C171,\"@\"),#REF!,4,0)))","v":""}]
[null,null,null,null,{"$f":"IF(C172=\"\",\"\",IFERROR(VLOOKUP(C172,#REF!,3,0)&VLOOKUP(C172,#REF!,4,0),VLOOKUP(TEXT(C172,\"@\"),#REF!,3,0)&VLOOKUP(TEXT(C172,\"@\"),#REF!,4,0)))","v":""}]
[null,null,null,null,{"$f":"IF(C173=\"\",\"\",IFERROR(VLOOKUP(C173,#REF!,3,0)&VLOOKUP(C173,#REF!,4,0),VLOOKUP(TEXT(C173,\"@\"),#REF!,3,0)&VLOOKUP(TEXT(C173,\"@\"),#REF!,4,0)))","v":""}]
[null,null,null,null,{"$f":"IF(C174=\"\",\"\",IFERROR(VLOOKUP(C174,#REF!,3,0)&VLOOKUP(C174,#REF!,4,0),VLOOKUP(TEXT(C174,\"@\"),#REF!,3,0)&VLOOKUP(TEXT(C174,\"@\"),#REF!,4,0)))","v":""}]
[null,null,null,null,{"$f":"IF(C175=\"\",\"\",IFERROR(VLOOKUP(C175,#REF!,3,0)&VLOOKUP(C175,#REF!,4,0),VLOOKUP(TEXT(C175,\"@\"),#REF!,3,0)&VLOOKUP(TEXT(C175,\"@\"),#REF!,4,0)))","v":""}]
[null,null,null,null,{"$f":"IF(C176=\"\",\"\",IFERROR(VLOOKUP(C176,#REF!,3,0)&VLOOKUP(C176,#REF!,4,0),VLOOKUP(TEXT(C176,\"@\"),#REF!,3,0)&VLOOKUP(TEXT(C176,\"@\"),#REF!,4,0)))","v":""}]
[null,null,null,null,{"$f":"IF(C177=\"\",\"\",IFERROR(VLOOKUP(C177,#REF!,3,0)&VLOOKUP(C177,#REF!,4,0),VLOOKUP(TEXT(C177,\"@\"),#REF!,3,0)&VLOOKUP(TEXT(C177,\"@\"),#REF!,4,0)))","v":""}]
[null,null,null,null,{"$f":"IF(C178=\"\",\"\",IFERROR(VLOOKUP(C178,#REF!,3,0)&VLOOKUP(C178,#REF!,4,0),VLOOKUP(TEXT(C178,\"@\"),#REF!,3,0)&VLOOKUP(TEXT(C178,\"@\"),#REF!,4,0)))","v":""}]
[null,null,null,null,{"$f":"IF(C179=\"\",\"\",IFERROR(VLOOKUP(C179,#REF!,3,0)&VLOOKUP(C179,#REF!,4,0),VLOOKUP(TEXT(C179,\"@\"),#REF!,3,0)&VLOOKUP(TEXT(C179,\"@\"),#REF!,4,0)))","v":""}]
[null,null,null,null,{"$f":"IF(C180=\"\",\"\",IFERROR(VLOOKUP(C180,#REF!,3,0)&VLOOKUP(C180,#REF!,4,0),VLOOKUP(TEXT(C180,\"@\"),#REF!,3,0)&VLOOKUP(TEXT(C180,\"@\"),#REF!,4,0)))","v":""}]
[null,null,null,null,{"$f":"IF(C181=\"\",\"\",IFERROR(VLOOKUP(C181,#REF!,3,0)&VLOOKUP(C181,#REF!,4,0),VLOOKUP(TEXT(C181,\"@\"),#REF!,3,0)&VLOOKUP(TEXT(C181,\"@\"),#REF!,4,0)))","v":""}]
[null,null,null,null,{"$f":"IF(C182=\"\",\"\",IFERROR(VLOOKUP(C182,#REF!,3,0)&VLOOKUP(C182,#REF!,4,0),VLOOKUP(TEXT(C182,\"@\"),#REF!,3,0)&VLOOKUP(TEXT(C182,\"@\"),#REF!,4,0)))","v":""}]
[null,null,null,null,{"$f":"IF(C183=\"\",\"\",IFERROR(VLOOKUP(C183,#REF!,3,0)&VLOOKUP(C183,#REF!,4,0),VLOOKUP(TEXT(C183,\"@\"),#REF!,3,0)&VLOOKUP(TEXT(C183,\"@\"),#REF!,4,0)))","v":""}]
[null,null,null,null,{"$f":"IF(C184=\"\",\"\",IFERROR(VLOOKUP(C184,#REF!,3,0)&VLOOKUP(C184,#REF!,4,0),VLOOKUP(TEXT(C184,\"@\"),#REF!,3,0)&VLOOKUP(TEXT(C184,\"@\"),#REF!,4,0)))","v":""}]
[null,null,null,null,{"$f":"IF(C185=\"\",\"\",IFERROR(VLOOKUP(C185,#REF!,3,0)&VLOOKUP(C185,#REF!,4,0),VLOOKUP(TEXT(C185,\"@\"),#REF!,3,0)&VLOOKUP(TEXT(C185,\"@\"),#REF!,4,0)))","v":""}]
[null,null,null,null,{"$f":"IF(C186=\"\",\"\",IFERROR(VLOOKUP(C186,#REF!,3,0)&VLOOKUP(C186,#REF!,4,0),VLOOKUP(TEXT(C186,\"@\"),#REF!,3,0)&VLOOKUP(TEXT(C186,\"@\"),#REF!,4,0)))","v":""}]
[null,null,null,null,{"$f":"IF(C187=\"\",\"\",IFERROR(VLOOKUP(C187,#REF!,3,0)&VLOOKUP(C187,#REF!,4,0),VLOOKUP(TEXT(C187,\"@\"),#REF!,3,0)&VLOOKUP(TEXT(C187,\"@\"),#REF!,4,0)))","v":""}]
[null,null,null,null,{"$f":"IF(C188=\"\",\"\",IFERROR(VLOOKUP(C188,#REF!,3,0)&VLOOKUP(C188,#REF!,4,0),VLOOKUP(TEXT(C188,\"@\"),#REF!,3,0)&VLOOKUP(TEXT(C188,\"@\"),#REF!,4,0)))","v":""}]
[null,null,null,null,{"$f":"IF(C189=\"\",\"\",IFERROR(VLOOKUP(C189,#REF!,3,0)&VLOOKUP(C189,#REF!,4,0),VLOOKUP(TEXT(C189,\"@\"),#REF!,3,0)&VLOOKUP(TEXT(C189,\"@\"),#REF!,4,0)))","v":""}]
[null,null,null,null,{"$f":"IF(C190=\"\",\"\",IFERROR(VLOOKUP(C190,#REF!,3,0)&VLOOKUP(C190,#REF!,4,0),VLOOKUP(TEXT(C190,\"@\"),#REF!,3,0)&VLOOKUP(TEXT(C190,\"@\"),#REF!,4,0)))","v":""}]
[null,null,null,null,{"$f":"IF(C191=\"\",\"\",IFERROR(VLOOKUP(C191,#REF!,3,0)&VLOOKUP(C191,#REF!,4,0),VLOOKUP(TEXT(C191,\"@\"),#REF!,3,0)&VLOOKUP(TEXT(C191,\"@\"),#REF!,4,0)))","v":""}]
[null,null,null,null,{"$f":"IF(C192=\"\",\"\",IFERROR(VLOOKUP(C192,#REF!,3,0)&VLOOKUP(C192,#REF!,4,0),VLOOKUP(TEXT(C192,\"@\"),#REF!,3,0)&VLOOKUP(TEXT(C192,\"@\"),#REF!,4,0)))","v":""}]
[null,null,null,null,{"$f":"IF(C193=\"\",\"\",IFERROR(VLOOKUP(C193,#REF!,3,0)&VLOOKUP(C193,#REF!,4,0),VLOOKUP(TEXT(C193,\"@\"),#REF!,3,0)&VLOOKUP(TEXT(C193,\"@\"),#REF!,4,0)))","v":""}]
[null,null,null,null,{"$f":"IF(C194=\"\",\"\",IFERROR(VLOOKUP(C194,#REF!,3,0)&VLOOKUP(C194,#REF!,4,0),VLOOKUP(TEXT(C194,\"@\"),#REF!,3,0)&VLOOKUP(TEXT(C194,\"@\"),#REF!,4,0)))","v":""}]
[null,null,null,null,{"$f":"IF(C195=\"\",\"\",IFERROR(VLOOKUP(C195,#REF!,3,0)&VLOOKUP(C195,#REF!,4,0),VLOOKUP(TEXT(C195,\"@\"),#REF!,3,0)&VLOOKUP(TEXT(C195,\"@\"),#REF!,4,0)))","v":""}]
[null,null,null,null,{"$f":"IF(C196=\"\",\"\",IFERROR(VLOOKUP(C196,#REF!,3,0)&VLOOKUP(C196,#REF!,4,0),VLOOKUP(TEXT(C196,\"@\"),#REF!,3,0)&VLOOKUP(TEXT(C196,\"@\"),#REF!,4,0)))","v":""}]
[null,null,null,null,{"$f":"IF(C197=\"\",\"\",IFERROR(VLOOKUP(C197,#REF!,3,0)&VLOOKUP(C197,#REF!,4,0),VLOOKUP(TEXT(C197,\"@\"),#REF!,3,0)&VLOOKUP(TEXT(C197,\"@\"),#REF!,4,0)))","v":""}]
[null,null,null,null,{"$f":"IF(C198=\"\",\"\",IFERROR(VLOOKUP(C198,#REF!,3,0)&VLOOKUP(C198,#REF!,4,0),VLOOKUP(TEXT(C198,\"@\"),#REF!,3,0)&VLOOKUP(TEXT(C198,\"@\"),#REF!,4,0)))","v":""}]
[null,null,null,null,{"$f":"IF(C199=\"\",\"\",IFERROR(VLOOKUP(C199,#REF!,3,0)&VLOOKUP(C199,#REF!,4,0),VLOOKUP(TEXT(C199,\"@\"),#REF!,3,0)&VLOOKUP(TEXT(C199,\"@\"),#REF!,4,0)))","v":""}]
[null,null,null,null,{"$f":"IF(C200=\"\",\"\",IFERROR(VLOOKUP(C200,#REF!,3,0)&VLOOKUP(C200,#REF!,4,0),VLOOKUP(TEXT(C200,\"@\"),#REF!,3,0)&VLOOKUP(TEXT(C200,\"@\"),#REF!,4,0)))","v":""}]
[null,null,null,null,{"$f":"IF(C201=\"\",\"\",IFERROR(VLOOKUP(C201,#REF!,3,0)&VLOOKUP(C201,#REF!,4,0),VLOOKUP(TEXT(C201,\"@\"),#REF!,3,0)&VLOOKUP(TEXT(C201,\"@\"),#REF!,4,0)))","v":""}]
[null,null,null,null,{"$f":"IF(C202=\"\",\"\",IFERROR(VLOOKUP(C202,#REF!,3,0)&VLOOKUP(C202,#REF!,4,0),VLOOKUP(TEXT(C202,\"@\"),#REF!,3,0)&VLOOKUP(TEXT(C202,\"@\"),#REF!,4,0)))","v":""}]
[null,null,null,null,{"$f":"IF(C203=\"\",\"\",IFERROR(VLOOKUP(C203,#REF!,3,0)&VLOOKUP(C203,#REF!,4,0),VLOOKUP(TEXT(C203,\"@\"),#REF!,3,0)&VLOOKUP(TEXT(C203,\"@\"),#REF!,4,0)))","v":""}]
[null,null,null,null,{"$f":"IF(C204=\"\",\"\",IFERROR(VLOOKUP(C204,#REF!,3,0)&VLOOKUP(C204,#REF!,4,0),VLOOKUP(TEXT(C204,\"@\"),#REF!,3,0)&VLOOKUP(TEXT(C204,\"@\"),#REF!,4,0)))","v":""}]
[null,null,null,null,{"$f":"IF(C205=\"\",\"\",IFERROR(VLOOKUP(C205,#REF!,3,0)&VLOOKUP(C205,#REF!,4,0),VLOOKUP(TEXT(C205,\"@\"),#REF!,3,0)&VLOOKUP(TEXT(C205,\"@\"),#REF!,4,0)))","v":""}]
[null,null,null,null,{"$f":"IF(C206=\"\",\"\",IFERROR(VLOOKUP(C206,#REF!,3,0)&VLOOKUP(C206,#REF!,4,0),VLOOKUP(TEXT(C206,\"@\"),#REF!,3,0)&VLOOKUP(TEXT(C206,\"@\"),#REF!,4,0)))","v":""}]
[null,null,null,null,{"$f":"IF(C207=\"\",\"\",IFERROR(VLOOKUP(C207,#REF!,3,0)&VLOOKUP(C207,#REF!,4,0),VLOOKUP(TEXT(C207,\"@\"),#REF!,3,0)&VLOOKUP(TEXT(C207,\"@\"),#REF!,4,0)))","v":""}]
[null,null,null,null,{"$f":"IF(C208=\"\",\"\",IFERROR(VLOOKUP(C208,#REF!,3,0)&VLOOKUP(C208,#REF!,4,0),VLOOKUP(TEXT(C208,\"@\"),#REF!,3,0)&VLOOKUP(TEXT(C208,\"@\"),#REF!,4,0)))","v":""}]
[null,null,null,null,{"$f":"IF(C209=\"\",\"\",IFERROR(VLOOKUP(C209,#REF!,3,0)&VLOOKUP(C209,#REF!,4,0),VLOOKUP(TEXT(C209,\"@\"),#REF!,3,0)&VLOOKUP(TEXT(C209,\"@\"),#REF!,4,0)))","v":""}]
[null,null,null,null,{"$f":"IF(C210=\"\",\"\",IFERROR(VLOOKUP(C210,#REF!,3,0)&VLOOKUP(C210,#REF!,4,0),VLOOKUP(TEXT(C210,\"@\"),#REF!,3,0)&VLOOKUP(TEXT(C210,\"@\"),#REF!,4,0)))","v":""}]
[null,null,null,null,{"$f":"IF(C211=\"\",\"\",IFERROR(VLOOKUP(C211,#REF!,3,0)&VLOOKUP(C211,#REF!,4,0),VLOOKUP(TEXT(C211,\"@\"),#REF!,3,0)&VLOOKUP(TEXT(C211,\"@\"),#REF!,4,0)))","v":""}]
[null,null,null,null,{"$f":"IF(C212=\"\",\"\",IFERROR(VLOOKUP(C212,#REF!,3,0)&VLOOKUP(C212,#REF!,4,0),VLOOKUP(TEXT(C212,\"@\"),#REF!,3,0)&VLOOKUP(TEXT(C212,\"@\"),#REF!,4,0)))","v":""}]
[null,null,null,null,{"$f":"IF(C213=\"\",\"\",IFERROR(VLOOKUP(C213,#REF!,3,0)&VLOOKUP(C213,#REF!,4,0),VLOOKUP(TEXT(C213,\"@\"),#REF!,3,0)&VLOOKUP(TEXT(C213,\"@\"),#REF!,4,0)))","v":""}]
[null,null,null,null,{"$f":"IF(C214=\"\",\"\",IFERROR(VLOOKUP(C214,#REF!,3,0)&VLOOKUP(C214,#REF!,4,0),VLOOKUP(TEXT(C214,\"@\"),#REF!,3,0)&VLOOKUP(TEXT(C214,\"@\"),#REF!,4,0)))","v":""}]
[null,null,null,null,{"$f":"IF(C215=\"\",\"\",IFERROR(VLOOKUP(C215,#REF!,3,0)&VLOOKUP(C215,#REF!,4,0),VLOOKUP(TEXT(C215,\"@\"),#REF!,3,0)&VLOOKUP(TEXT(C215,\"@\"),#REF!,4,0)))","v":""}]
[null,null,null,null,{"$f":"IF(C216=\"\",\"\",IFERROR(VLOOKUP(C216,#REF!,3,0)&VLOOKUP(C216,#REF!,4,0),VLOOKUP(TEXT(C216,\"@\"),#REF!,3,0)&VLOOKUP(TEXT(C216,\"@\"),#REF!,4,0)))","v":""}]
[null,null,null,null,{"$f":"IF(C217=\"\",\"\",IFERROR(VLOOKUP(C217,#REF!,3,0)&VLOOKUP(C217,#REF!,4,0),VLOOKUP(TEXT(C217,\"@\"),#REF!,3,0)&VLOOKUP(TEXT(C217,\"@\"),#REF!,4,0)))","v":""}]
[null,null,null,null,{"$f":"IF(C218=\"\",\"\",IFERROR(VLOOKUP(C218,#REF!,3,0)&VLOOKUP(C218,#REF!,4,0),VLOOKUP(TEXT(C218,\"@\"),#REF!,3,0)&VLOOKUP(TEXT(C218,\"@\"),#REF!,4,0)))","v":""}]
[null,null,null,null,{"$f":"IF(C219=\"\",\"\",IFERROR(VLOOKUP(C219,#REF!,3,0)&VLOOKUP(C219,#REF!,4,0),VLOOKUP(TEXT(C219,\"@\"),#REF!,3,0)&VLOOKUP(TEXT(C219,\"@\"),#REF!,4,0)))","v":""}]
[null,null,null,null,{"$f":"IF(C220=\"\",\"\",IFERROR(VLOOKUP(C220,#REF!,3,0)&VLOOKUP(C220,#REF!,4,0),VLOOKUP(TEXT(C220,\"@\"),#REF!,3,0)&VLOOKUP(TEXT(C220,\"@\"),#REF!,4,0)))","v":""}]
[null,null,null,null,{"$f":"IF(C221=\"\",\"\",IFERROR(VLOOKUP(C221,#REF!,3,0)&VLOOKUP(C221,#REF!,4,0),VLOOKUP(TEXT(C221,\"@\"),#REF!,3,0)&VLOOKUP(TEXT(C221,\"@\"),#REF!,4,0)))","v":""}]
[null,null,null,null,{"$f":"IF(C222=\"\",\"\",IFERROR(VLOOKUP(C222,#REF!,3,0)&VLOOKUP(C222,#REF!,4,0),VLOOKUP(TEXT(C222,\"@\"),#REF!,3,0)&VLOOKUP(TEXT(C222,\"@\"),#REF!,4,0)))","v":""}]
[null,null,null,null,{"$f":"IF(C223=\"\",\"\",IFERROR(VLOOKUP(C223,#REF!,3,0)&VLOOKUP(C223,#REF!,4,0),VLOOKUP(TEXT(C223,\"@\"),#REF!,3,0)&VLOOKUP(TEXT(C223,\"@\"),#REF!,4,0)))","v":""}]
[null,null,null,null,{"$f":"IF(C224=\"\",\"\",IFERROR(VLOOKUP(C224,#REF!,3,0)&VLOOKUP(C224,#REF!,4,0),VLOOKUP(TEXT(C224,\"@\"),#REF!,3,0)&VLOOKUP(TEXT(C224,\"@\"),#REF!,4,0)))","v":""}]
[null,null,null,null,{"$f":"IF(C225=\"\",\"\",IFERROR(VLOOKUP(C225,#REF!,3,0)&VLOOKUP(C225,#REF!,4,0),VLOOKUP(TEXT(C225,\"@\"),#REF!,3,0)&VLOOKUP(TEXT(C225,\"@\"),#REF!,4,0)))","v":""}]
[null,null,null,null,{"$f":"IF(C226=\"\",\"\",IFERROR(VLOOKUP(C226,#REF!,3,0)&VLOOKUP(C226,#REF!,4,0),VLOOKUP(TEXT(C226,\"@\"),#REF!,3,0)&VLOOKUP(TEXT(C226,\"@\"),#REF!,4,0)))","v":""}]
[null,null,null,null,{"$f":"IF(C227=\"\",\"\",IFERROR(VLOOKUP(C227,#REF!,3,0)&VLOOKUP(C227,#REF!,4,0),VLOOKUP(TEXT(C227,\"@\"),#REF!,3,0)&VLOOKUP(TEXT(C227,\"@\"),#REF!,4,0)))","v":""}]
[null,null,null,null,{"$f":"IF(C228=\"\",\"\",IFERROR(VLOOKUP(C228,#REF!,3,0)&VLOOKUP(C228,#REF!,4,0),VLOOKUP(TEXT(C228,\"@\"),#REF!,3,0)&VLOOKUP(TEXT(C228,\"@\"),#REF!,4,0)))","v":""}]
[null,null,null,null,{"$f":"IF(C229=\"\",\"\",IFERROR(VLOOKUP(C229,#REF!,3,0)&VLOOKUP(C229,#REF!,4,0),VLOOKUP(TEXT(C229,\"@\"),#REF!,3,0)&VLOOKUP(TEXT(C229,\"@\"),#REF!,4,0)))","v":""}]
[null,null,null,null,{"$f":"IF(C230=\"\",\"\",IFERROR(VLOOKUP(C230,#REF!,3,0)&VLOOKUP(C230,#REF!,4,0),VLOOKUP(TEXT(C230,\"@\"),#REF!,3,0)&VLOOKUP(TEXT(C230,\"@\"),#REF!,4,0)))","v":""}]
[null,null,null,null,{"$f":"IF(C231=\"\",\"\",IFERROR(VLOOKUP(C231,#REF!,3,0)&VLOOKUP(C231,#REF!,4,0),VLOOKUP(TEXT(C231,\"@\"),#REF!,3,0)&VLOOKUP(TEXT(C231,\"@\"),#REF!,4,0)))","v":""}]
[null,null,null,null,{"$f":"IF(C232=\"\",\"\",IFERROR(VLOOKUP(C232,#REF!,3,0)&VLOOKUP(C232,#REF!,4,0),VLOOKUP(TEXT(C232,\"@\"),#REF!,3,0)&VLOOKUP(TEXT(C232,\"@\"),#REF!,4,0)))","v":""}]
[null,null,null,null,{"$f":"IF(C233=\"\",\"\",IFERROR(VLOOKUP(C233,#REF!,3,0)&VLOOKUP(C233,#REF!,4,0),VLOOKUP(TEXT(C233,\"@\"),#REF!,3,0)&VLOOKUP(TEXT(C233,\"@\"),#REF!,4,0)))","v":""}]
[null,null,null,null,{"$f":"IF(C234=\"\",\"\",IFERROR(VLOOKUP(C234,#REF!,3,0)&VLOOKUP(C234,#REF!,4,0),VLOOKUP(TEXT(C234,\"@\"),#REF!,3,0)&VLOOKUP(TEXT(C234,\"@\"),#REF!,4,0)))","v":""}]
[null,null,null,null,{"$f":"IF(C235=\"\",\"\",IFERROR(VLOOKUP(C235,#REF!,3,0)&VLOOKUP(C235,#REF!,4,0),VLOOKUP(TEXT(C235,\"@\"),#REF!,3,0)&VLOOKUP(TEXT(C235,\"@\"),#REF!,4,0)))","v":""}]
[null,null,null,null,{"$f":"IF(C236=\"\",\"\",IFERROR(VLOOKUP(C236,#REF!,3,0)&VLOOKUP(C236,#REF!,4,0),VLOOKUP(TEXT(C236,\"@\"),#REF!,3,0)&VLOOKUP(TEXT(C236,\"@\"),#REF!,4,0)))","v":""}]
[null,null,null,null,{"$f":"IF(C237=\"\",\"\",IFERROR(VLOOKUP(C237,#REF!,3,0)&VLOOKUP(C237,#REF!,4,0),VLOOKUP(TEXT(C237,\"@\"),#REF!,3,0)&VLOOKUP(TEXT(C237,\"@\"),#REF!,4,0)))","v":""}]
[null,null,null,null,{"$f":"IF(C238=\"\",\"\",IFERROR(VLOOKUP(C238,#REF!,3,0)&VLOOKUP(C238,#REF!,4,0),VLOOKUP(TEXT(C238,\"@\"),#REF!,3,0)&VLOOKUP(TEXT(C238,\"@\"),#REF!,4,0)))","v":""}]
[null,null,null,null,{"$f":"IF(C239=\"\",\"\",IFERROR(VLOOKUP(C239,#REF!,3,0)&VLOOKUP(C239,#REF!,4,0),VLOOKUP(TEXT(C239,\"@\"),#REF!,3,0)&VLOOKUP(TEXT(C239,\"@\"),#REF!,4,0)))","v":""}]
[null,null,null,null,{"$f":"IF(C240=\"\",\"\",IFERROR(VLOOKUP(C240,#REF!,3,0)&VLOOKUP(C240,#REF!,4,0),VLOOKUP(TEXT(C240,\"@\"),#REF!,3,0)&VLOOKUP(TEXT(C240,\"@\"),#REF!,4,0)))","v":""}]
[null,null,null,null,{"$f":"IF(C241=\"\",\"\",IFERROR(VLOOKUP(C241,#REF!,3,0)&VLOOKUP(C241,#REF!,4,0),VLOOKUP(TEXT(C241,\"@\"),#REF!,3,0)&VLOOKUP(TEXT(C241,\"@\"),#REF!,4,0)))","v":""}]
[null,null,null,null,{"$f":"IF(C242=\"\",\"\",IFERROR(VLOOKUP(C242,#REF!,3,0)&VLOOKUP(C242,#REF!,4,0),VLOOKUP(TEXT(C242,\"@\"),#REF!,3,0)&VLOOKUP(TEXT(C242,\"@\"),#REF!,4,0)))","v":""}]
[null,null,null,null,{"$f":"IF(C243=\"\",\"\",IFERROR(VLOOKUP(C243,#REF!,3,0)&VLOOKUP(C243,#REF!,4,0),VLOOKUP(TEXT(C243,\"@\"),#REF!,3,0)&VLOOKUP(TEXT(C243,\"@\"),#REF!,4,0)))","v":""}]
[null,null,null,null,{"$f":"IF(C244=\"\",\"\",IFERROR(VLOOKUP(C244,#REF!,3,0)&VLOOKUP(C244,#REF!,4,0),VLOOKUP(TEXT(C244,\"@\"),#REF!,3,0)&VLOOKUP(TEXT(C244,\"@\"),#REF!,4,0)))","v":""}]
[null,null,null,null,{"$f":"IF(C245=\"\",\"\",IFERROR(VLOOKUP(C245,#REF!,3,0)&VLOOKUP(C245,#REF!,4,0),VLOOKUP(TEXT(C245,\"@\"),#REF!,3,0)&VLOOKUP(TEXT(C245,\"@\"),#REF!,4,0)))","v":""}]
[null,null,null,null,{"$f":"IF(C246=\"\",\"\",IFERROR(VLOOKUP(C246,#REF!,3,0)&VLOOKUP(C246,#REF!,4,0),VLOOKUP(TEXT(C246,\"@\"),#REF!,3,0)&VLOOKUP(TEXT(C246,\"@\"),#REF!,4,0)))","v":""}]
[null,null,null,null,{"$f":"IF(C247=\"\",\"\",IFERROR(VLOOKUP(C247,#REF!,3,0)&VLOOKUP(C247,#REF!,4,0),VLOOKUP(TEXT(C247,\"@\"),#REF!,3,0)&VLOOKUP(TEXT(C247,\"@\"),#REF!,4,0)))","v":""}]
[null,null,null,null,{"$f":"IF(C248=\"\",\"\",IFERROR(VLOOKUP(C248,#REF!,3,0)&VLOOKUP(C248,#REF!,4,0),VLOOKUP(TEXT(C248,\"@\"),#REF!,3,0)&VLOOKUP(TEXT(C248,\"@\"),#REF!,4,0)))","v":""}]
[null,null,null,null,{"$f":"IF(C249=\"\",\"\",IFERROR(VLOOKUP(C249,#REF!,3,0)&VLOOKUP(C249,#REF!,4,0),VLOOKUP(TEXT(C249,\"@\"),#REF!,3,0)&VLOOKUP(TEXT(C249,\"@\"),#REF!,4,0)))","v":""}]
[null,null,null,null,{"$f":"IF(C250=\"\",\"\",IFERROR(VLOOKUP(C250,#REF!,3,0)&VLOOKUP(C250,#REF!,4,0),VLOOKUP(TEXT(C250,\"@\"),#REF!,3,0)&VLOOKUP(TEXT(C250,\"@\"),#REF!,4,0)))","v":""}]
[null,null,null,null,{"$f":"IF(C251=\"\",\"\",IFERROR(VLOOKUP(C251,#REF!,3,0)&VLOOKUP(C251,#REF!,4,0),VLOOKUP(TEXT(C251,\"@\"),#REF!,3,0)&VLOOKUP(TEXT(C251,\"@\"),#REF!,4,0)))","v":""}]
[null,null,null,null,{"$f":"IF(C252=\"\",\"\",IFERROR(VLOOKUP(C252,#REF!,3,0)&VLOOKUP(C252,#REF!,4,0),VLOOKUP(TEXT(C252,\"@\"),#REF!,3,0)&VLOOKUP(TEXT(C252,\"@\"),#REF!,4,0)))","v":""}]
[null,null,null,null,{"$f":"IF(C253=\"\",\"\",IFERROR(VLOOKUP(C253,#REF!,3,0)&VLOOKUP(C253,#REF!,4,0),VLOOKUP(TEXT(C253,\"@\"),#REF!,3,0)&VLOOKUP(TEXT(C253,\"@\"),#REF!,4,0)))","v":""}]
[null,null,null,null,{"$f":"IF(C254=\"\",\"\",IFERROR(VLOOKUP(C254,#REF!,3,0)&VLOOKUP(C254,#REF!,4,0),VLOOKUP(TEXT(C254,\"@\"),#REF!,3,0)&VLOOKUP(TEXT(C254,\"@\"),#REF!,4,0)))","v":""}]
[null,null,null,null,{"$f":"IF(C255=\"\",\"\",IFERROR(VLOOKUP(C255,#REF!,3,0)&VLOOKUP(C255,#REF!,4,0),VLOOKUP(TEXT(C255,\"@\"),#REF!,3,0)&VLOOKUP(TEXT(C255,\"@\"),#REF!,4,0)))","v":""}]
[null,null,null,null,{"$f":"IF(C256=\"\",\"\",IFERROR(VLOOKUP(C256,#REF!,3,0)&VLOOKUP(C256,#REF!,4,0),VLOOKUP(TEXT(C256,\"@\"),#REF!,3,0)&VLOOKUP(TEXT(C256,\"@\"),#REF!,4,0)))","v":""}]
[null,null,null,null,{"$f":"IF(C257=\"\",\"\",IFERROR(VLOOKUP(C257,#REF!,3,0)&VLOOKUP(C257,#REF!,4,0),VLOOKUP(TEXT(C257,\"@\"),#REF!,3,0)&VLOOKUP(TEXT(C257,\"@\"),#REF!,4,0)))","v":""}]
[null,null,null,null,{"$f":"IF(C258=\"\",\"\",IFERROR(VLOOKUP(C258,#REF!,3,0)&VLOOKUP(C258,#REF!,4,0),VLOOKUP(TEXT(C258,\"@\"),#REF!,3,0)&VLOOKUP(TEXT(C258,\"@\"),#REF!,4,0)))","v":""}]
[null,null,null,null,{"$f":"IF(C259=\"\",\"\",IFERROR(VLOOKUP(C259,#REF!,3,0)&VLOOKUP(C259,#REF!,4,0),VLOOKUP(TEXT(C259,\"@\"),#REF!,3,0)&VLOOKUP(TEXT(C259,\"@\"),#REF!,4,0)))","v":""}]
[null,null,null,null,{"$f":"IF(C260=\"\",\"\",IFERROR(VLOOKUP(C260,#REF!,3,0)&VLOOKUP(C260,#REF!,4,0),VLOOKUP(TEXT(C260,\"@\"),#REF!,3,0)&VLOOKUP(TEXT(C260,\"@\"),#REF!,4,0)))","v":""}]
[null,null,null,null,{"$f":"IF(C261=\"\",\"\",IFERROR(VLOOKUP(C261,#REF!,3,0)&VLOOKUP(C261,#REF!,4,0),VLOOKUP(TEXT(C261,\"@\"),#REF!,3,0)&VLOOKUP(TEXT(C261,\"@\"),#REF!,4,0)))","v":""}]
[null,null,null,null,{"$f":"IF(C262=\"\",\"\",IFERROR(VLOOKUP(C262,#REF!,3,0)&VLOOKUP(C262,#REF!,4,0),VLOOKUP(TEXT(C262,\"@\"),#REF!,3,0)&VLOOKUP(TEXT(C262,\"@\"),#REF!,4,0)))","v":""}]
[null,null,null,null,{"$f":"IF(C263=\"\",\"\",IFERROR(VLOOKUP(C263,#REF!,3,0)&VLOOKUP(C263,#REF!,4,0),VLOOKUP(TEXT(C263,\"@\"),#REF!,3,0)&VLOOKUP(TEXT(C263,\"@\"),#REF!,4,0)))","v":""}]
[null,null,null,null,{"$f":"IF(C264=\"\",\"\",IFERROR(VLOOKUP(C264,#REF!,3,0)&VLOOKUP(C264,#REF!,4,0),VLOOKUP(TEXT(C264,\"@\"),#REF!,3,0)&VLOOKUP(TEXT(C264,\"@\"),#REF!,4,0)))","v":""}]
[null,null,null,null,{"$f":"IF(C265=\"\",\"\",IFERROR(VLOOKUP(C265,#REF!,3,0)&VLOOKUP(C265,#REF!,4,0),VLOOKUP(TEXT(C265,\"@\"),#REF!,3,0)&VLOOKUP(TEXT(C265,\"@\"),#REF!,4,0)))","v":""}]
[null,null,null,null,{"$f":"IF(C266=\"\",\"\",IFERROR(VLOOKUP(C266,#REF!,3,0)&VLOOKUP(C266,#REF!,4,0),VLOOKUP(TEXT(C266,\"@\"),#REF!,3,0)&VLOOKUP(TEXT(C266,\"@\"),#REF!,4,0)))","v":""}]
[null,null,null,null,{"$f":"IF(C267=\"\",\"\",IFERROR(VLOOKUP(C267,#REF!,3,0)&VLOOKUP(C267,#REF!,4,0),VLOOKUP(TEXT(C267,\"@\"),#REF!,3,0)&VLOOKUP(TEXT(C267,\"@\"),#REF!,4,0)))","v":""}]
[null,null,null,null,{"$f":"IF(C268=\"\",\"\",IFERROR(VLOOKUP(C268,#REF!,3,0)&VLOOKUP(C268,#REF!,4,0),VLOOKUP(TEXT(C268,\"@\"),#REF!,3,0)&VLOOKUP(TEXT(C268,\"@\"),#REF!,4,0)))","v":""}]
[null,null,null,null,{"$f":"IF(C269=\"\",\"\",IFERROR(VLOOKUP(C269,#REF!,3,0)&VLOOKUP(C269,#REF!,4,0),VLOOKUP(TEXT(C269,\"@\"),#REF!,3,0)&VLOOKUP(TEXT(C269,\"@\"),#REF!,4,0)))","v":""}]
[null,null,null,null,{"$f":"IF(C270=\"\",\"\",IFERROR(VLOOKUP(C270,#REF!,3,0)&VLOOKUP(C270,#REF!,4,0),VLOOKUP(TEXT(C270,\"@\"),#REF!,3,0)&VLOOKUP(TEXT(C270,\"@\"),#REF!,4,0)))","v":""}]
[null,null,null,null,{"$f":"IF(C271=\"\",\"\",IFERROR(VLOOKUP(C271,#REF!,3,0)&VLOOKUP(C271,#REF!,4,0),VLOOKUP(TEXT(C271,\"@\"),#REF!,3,0)&VLOOKUP(TEXT(C271,\"@\"),#REF!,4,0)))","v":""}]
[null,null,null,null,{"$f":"IF(C272=\"\",\"\",IFERROR(VLOOKUP(C272,#REF!,3,0)&VLOOKUP(C272,#REF!,4,0),VLOOKUP(TEXT(C272,\"@\"),#REF!,3,0)&VLOOKUP(TEXT(C272,\"@\"),#REF!,4,0)))","v":""}]
[null,null,null,null,{"$f":"IF(C273=\"\",\"\",IFERROR(VLOOKUP(C273,#REF!,3,0)&VLOOKUP(C273,#REF!,4,0),VLOOKUP(TEXT(C273,\"@\"),#REF!,3,0)&VLOOKUP(TEXT(C273,\"@\"),#REF!,4,0)))","v":""}]
[null,null,null,null,{"$f":"IF(C274=\"\",\"\",IFERROR(VLOOKUP(C274,#REF!,3,0)&VLOOKUP(C274,#REF!,4,0),VLOOKUP(TEXT(C274,\"@\"),#REF!,3,0)&VLOOKUP(TEXT(C274,\"@\"),#REF!,4,0)))","v":""}]
[null,null,null,null,{"$f":"IF(C275=\"\",\"\",IFERROR(VLOOKUP(C275,#REF!,3,0)&VLOOKUP(C275,#REF!,4,0),VLOOKUP(TEXT(C275,\"@\"),#REF!,3,0)&VLOOKUP(TEXT(C275,\"@\"),#REF!,4,0)))","v":""}]
[null,null,null,null,{"$f":"IF(C276=\"\",\"\",IFERROR(VLOOKUP(C276,#REF!,3,0)&VLOOKUP(C276,#REF!,4,0),VLOOKUP(TEXT(C276,\"@\"),#REF!,3,0)&VLOOKUP(TEXT(C276,\"@\"),#REF!,4,0)))","v":""}]
[null,null,null,null,{"$f":"IF(C277=\"\",\"\",IFERROR(VLOOKUP(C277,#REF!,3,0)&VLOOKUP(C277,#REF!,4,0),VLOOKUP(TEXT(C277,\"@\"),#REF!,3,0)&VLOOKUP(TEXT(C277,\"@\"),#REF!,4,0)))","v":""}]
[null,null,null,null,{"$f":"IF(C278=\"\",\"\",IFERROR(VLOOKUP(C278,#REF!,3,0)&VLOOKUP(C278,#REF!,4,0),VLOOKUP(TEXT(C278,\"@\"),#REF!,3,0)&VLOOKUP(TEXT(C278,\"@\"),#REF!,4,0)))","v":""}]
[null,null,null,null,{"$f":"IF(C279=\"\",\"\",IFERROR(VLOOKUP(C279,#REF!,3,0)&VLOOKUP(C279,#REF!,4,0),VLOOKUP(TEXT(C279,\"@\"),#REF!,3,0)&VLOOKUP(TEXT(C279,\"@\"),#REF!,4,0)))","v":""}]
[null,null,null,null,{"$f":"IF(C280=\"\",\"\",IFERROR(VLOOKUP(C280,#REF!,3,0)&VLOOKUP(C280,#REF!,4,0),VLOOKUP(TEXT(C280,\"@\"),#REF!,3,0)&VLOOKUP(TEXT(C280,\"@\"),#REF!,4,0)))","v":""}]
[null,null,null,null,{"$f":"IF(C281=\"\",\"\",IFERROR(VLOOKUP(C281,#REF!,3,0)&VLOOKUP(C281,#REF!,4,0),VLOOKUP(TEXT(C281,\"@\"),#REF!,3,0)&VLOOKUP(TEXT(C281,\"@\"),#REF!,4,0)))","v":""}]
[null,null,null,null,{"$f":"IF(C282=\"\",\"\",IFERROR(VLOOKUP(C282,#REF!,3,0)&VLOOKUP(C282,#REF!,4,0),VLOOKUP(TEXT(C282,\"@\"),#REF!,3,0)&VLOOKUP(TEXT(C282,\"@\"),#REF!,4,0)))","v":""}]
[null,null,null,null,{"$f":"IF(C283=\"\",\"\",IFERROR(VLOOKUP(C283,#REF!,3,0)&VLOOKUP(C283,#REF!,4,0),VLOOKUP(TEXT(C283,\"@\"),#REF!,3,0)&VLOOKUP(TEXT(C283,\"@\"),#REF!,4,0)))","v":""}]
[null,null,null,null,{"$f":"IF(C284=\"\",\"\",IFERROR(VLOOKUP(C284,#REF!,3,0)&VLOOKUP(C284,#REF!,4,0),VLOOKUP(TEXT(C284,\"@\"),#REF!,3,0)&VLOOKUP(TEXT(C284,\"@\"),#REF!,4,0)))","v":""}]
[null,null,null,null,{"$f":"IF(C285=\"\",\"\",IFERROR(VLOOKUP(C285,#REF!,3,0)&VLOOKUP(C285,#REF!,4,0),VLOOKUP(TEXT(C285,\"@\"),#REF!,3,0)&VLOOKUP(TEXT(C285,\"@\"),#REF!,4,0)))","v":""}]
[null,null,null,null,{"$f":"IF(C286=\"\",\"\",IFERROR(VLOOKUP(C286,#REF!,3,0)&VLOOKUP(C286,#REF!,4,0),VLOOKUP(TEXT(C286,\"@\"),#REF!,3,0)&VLOOKUP(TEXT(C286,\"@\"),#REF!,4,0)))","v":""}]
[null,null,null,null,{"$f":"IF(C287=\"\",\"\",IFERROR(VLOOKUP(C287,#REF!,3,0)&VLOOKUP(C287,#REF!,4,0),VLOOKUP(TEXT(C287,\"@\"),#REF!,3,0)&VLOOKUP(TEXT(C287,\"@\"),#REF!,4,0)))","v":""}]
[null,null,null,null,{"$f":"IF(C288=\"\",\"\",IFERROR(VLOOKUP(C288,#REF!,3,0)&VLOOKUP(C288,#REF!,4,0),VLOOKUP(TEXT(C288,\"@\"),#REF!,3,0)&VLOOKUP(TEXT(C288,\"@\"),#REF!,4,0)))","v":""}]
[null,null,null,null,{"$f":"IF(C289=\"\",\"\",IFERROR(VLOOKUP(C289,#REF!,3,0)&VLOOKUP(C289,#REF!,4,0),VLOOKUP(TEXT(C289,\"@\"),#REF!,3,0)&VLOOKUP(TEXT(C289,\"@\"),#REF!,4,0)))","v":""}]
[null,null,null,null,{"$f":"IF(C290=\"\",\"\",IFERROR(VLOOKUP(C290,#REF!,3,0)&VLOOKUP(C290,#REF!,4,0),VLOOKUP(TEXT(C290,\"@\"),#REF!,3,0)&VLOOKUP(TEXT(C290,\"@\"),#REF!,4,0)))","v":""}]
[null,null,null,null,{"$f":"IF(C291=\"\",\"\",IFERROR(VLOOKUP(C291,#REF!,3,0)&VLOOKUP(C291,#REF!,4,0),VLOOKUP(TEXT(C291,\"@\"),#REF!,3,0)&VLOOKUP(TEXT(C291,\"@\"),#REF!,4,0)))","v":""}]
[null,null,null,null,{"$f":"IF(C292=\"\",\"\",IFERROR(VLOOKUP(C292,#REF!,3,0)&VLOOKUP(C292,#REF!,4,0),VLOOKUP(TEXT(C292,\"@\"),#REF!,3,0)&VLOOKUP(TEXT(C292,\"@\"),#REF!,4,0)))","v":""}]
[null,null,null,null,{"$f":"IF(C293=\"\",\"\",IFERROR(VLOOKUP(C293,#REF!,3,0)&VLOOKUP(C293,#REF!,4,0),VLOOKUP(TEXT(C293,\"@\"),#REF!,3,0)&VLOOKUP(TEXT(C293,\"@\"),#REF!,4,0)))","v":""}]
[null,null,null,null,{"$f":"IF(C294=\"\",\"\",IFERROR(VLOOKUP(C294,#REF!,3,0)&VLOOKUP(C294,#REF!,4,0),VLOOKUP(TEXT(C294,\"@\"),#REF!,3,0)&VLOOKUP(TEXT(C294,\"@\"),#REF!,4,0)))","v":""}]
[null,null,null,null,{"$f":"IF(C295=\"\",\"\",IFERROR(VLOOKUP(C295,#REF!,3,0)&VLOOKUP(C295,#REF!,4,0),VLOOKUP(TEXT(C295,\"@\"),#REF!,3,0)&VLOOKUP(TEXT(C295,\"@\"),#REF!,4,0)))","v":""}]
[null,null,null,null,{"$f":"IF(C296=\"\",\"\",IFERROR(VLOOKUP(C296,#REF!,3,0)&VLOOKUP(C296,#REF!,4,0),VLOOKUP(TEXT(C296,\"@\"),#REF!,3,0)&VLOOKUP(TEXT(C296,\"@\"),#REF!,4,0)))","v":""}]
[null,null,null,null,{"$f":"IF(C297=\"\",\"\",IFERROR(VLOOKUP(C297,#REF!,3,0)&VLOOKUP(C297,#REF!,4,0),VLOOKUP(TEXT(C297,\"@\"),#REF!,3,0)&VLOOKUP(TEXT(C297,\"@\"),#REF!,4,0)))","v":""}]
[null,null,null,null,{"$f":"IF(C298=\"\",\"\",IFERROR(VLOOKUP(C298,#REF!,3,0)&VLOOKUP(C298,#REF!,4,0),VLOOKUP(TEXT(C298,\"@\"),#REF!,3,0)&VLOOKUP(TEXT(C298,\"@\"),#REF!,4,0)))","v":""}]
[null,null,null,null,{"$f":"IF(C299=\"\",\"\",IFERROR(VLOOKUP(C299,#REF!,3,0)&VLOOKUP(C299,#REF!,4,0),VLOOKUP(TEXT(C299,\"@\"),#REF!,3,0)&VLOOKUP(TEXT(C299,\"@\"),#REF!,4,0)))","v":""}]
[null,null,null,null,{"$f":"IF(C300=\"\",\"\",IFERROR(VLOOKUP(C300,#REF!,3,0)&VLOOKUP(C300,#REF!,4,0),VLOOKUP(TEXT(C300,\"@\"),#REF!,3,0)&VLOOKUP(TEXT(C300,\"@\"),#REF!,4,0)))","v":""}]
[null,null,null,null,{"$f":"IF(C301=\"\",\"\",IFERROR(VLOOKUP(C301,#REF!,3,0)&VLOOKUP(C301,#REF!,4,0),VLOOKUP(TEXT(C301,\"@\"),#REF!,3,0)&VLOOKUP(TEXT(C301,\"@\"),#REF!,4,0)))","v":""}]
[null,null,null,null,{"$f":"IF(C302=\"\",\"\",IFERROR(VLOOKUP(C302,#REF!,3,0)&VLOOKUP(C302,#REF!,4,0),VLOOKUP(TEXT(C302,\"@\"),#REF!,3,0)&VLOOKUP(TEXT(C302,\"@\"),#REF!,4,0)))","v":""}]
[null,null,null,null,{"$f":"IF(C303=\"\",\"\",IFERROR(VLOOKUP(C303,#REF!,3,0)&VLOOKUP(C303,#REF!,4,0),VLOOKUP(TEXT(C303,\"@\"),#REF!,3,0)&VLOOKUP(TEXT(C303,\"@\"),#REF!,4,0)))","v":""}]
[null,null,null,null,{"$f":"IF(C304=\"\",\"\",IFERROR(VLOOKUP(C304,#REF!,3,0)&VLOOKUP(C304,#REF!,4,0),VLOOKUP(TEXT(C304,\"@\"),#REF!,3,0)&VLOOKUP(TEXT(C304,\"@\"),#REF!,4,0)))","v":""}]
[null,null,null,null,{"$f":"IF(C305=\"\",\"\",IFERROR(VLOOKUP(C305,#REF!,3,0)&VLOOKUP(C305,#REF!,4,0),VLOOKUP(TEXT(C305,\"@\"),#REF!,3,0)&VLOOKUP(TEXT(C305,\"@\"),#REF!,4,0)))","v":""}]
[null,null,null,null,{"$f":"IF(C306=\"\",\"\",IFERROR(VLOOKUP(C306,#REF!,3,0)&VLOOKUP(C306,#REF!,4,0),VLOOKUP(TEXT(C306,\"@\"),#REF!,3,0)&VLOOKUP(TEXT(C306,\"@\"),#REF!,4,0)))","v":""}]
[null,null,null,null,{"$f":"IF(C307=\"\",\"\",IFERROR(VLOOKUP(C307,#REF!,3,0)&VLOOKUP(C307,#REF!,4,0),VLOOKUP(TEXT(C307,\"@\"),#REF!,3,0)&VLOOKUP(TEXT(C307,\"@\"),#REF!,4,0)))","v":""}]
[null,null,null,null,{"$f":"IF(C308=\"\",\"\",IFERROR(VLOOKUP(C308,#REF!,3,0)&VLOOKUP(C308,#REF!,4,0),VLOOKUP(TEXT(C308,\"@\"),#REF!,3,0)&VLOOKUP(TEXT(C308,\"@\"),#REF!,4,0)))","v":""}]
[null,null,null,null,{"$f":"IF(C309=\"\",\"\",IFERROR(VLOOKUP(C309,#REF!,3,0)&VLOOKUP(C309,#REF!,4,0),VLOOKUP(TEXT(C309,\"@\"),#REF!,3,0)&VLOOKUP(TEXT(C309,\"@\"),#REF!,4,0)))","v":""}]
[null,null,null,null,{"$f":"IF(C310=\"\",\"\",IFERROR(VLOOKUP(C310,#REF!,3,0)&VLOOKUP(C310,#REF!,4,0),VLOOKUP(TEXT(C310,\"@\"),#REF!,3,0)&VLOOKUP(TEXT(C310,\"@\"),#REF!,4,0)))","v":""}]
[null,null,null,null,{"$f":"IF(C311=\"\",\"\",IFERROR(VLOOKUP(C311,#REF!,3,0)&VLOOKUP(C311,#REF!,4,0),VLOOKUP(TEXT(C311,\"@\"),#REF!,3,0)&VLOOKUP(TEXT(C311,\"@\"),#REF!,4,0)))","v":""}]
[null,null,null,null,{"$f":"IF(C312=\"\",\"\",IFERROR(VLOOKUP(C312,#REF!,3,0)&VLOOKUP(C312,#REF!,4,0),VLOOKUP(TEXT(C312,\"@\"),#REF!,3,0)&VLOOKUP(TEXT(C312,\"@\"),#REF!,4,0)))","v":""}]
[null,null,null,null,{"$f":"IF(C313=\"\",\"\",IFERROR(VLOOKUP(C313,#REF!,3,0)&VLOOKUP(C313,#REF!,4,0),VLOOKUP(TEXT(C313,\"@\"),#REF!,3,0)&VLOOKUP(TEXT(C313,\"@\"),#REF!,4,0)))","v":""}]
[null,null,null,null,{"$f":"IF(C314=\"\",\"\",IFERROR(VLOOKUP(C314,#REF!,3,0)&VLOOKUP(C314,#REF!,4,0),VLOOKUP(TEXT(C314,\"@\"),#REF!,3,0)&VLOOKUP(TEXT(C314,\"@\"),#REF!,4,0)))","v":""}]
[null,null,null,null,{"$f":"IF(C315=\"\",\"\",IFERROR(VLOOKUP(C315,#REF!,3,0)&VLOOKUP(C315,#REF!,4,0),VLOOKUP(TEXT(C315,\"@\"),#REF!,3,0)&VLOOKUP(TEXT(C315,\"@\"),#REF!,4,0)))","v":""}]
[null,null,null,null,{"$f":"IF(C316=\"\",\"\",IFERROR(VLOOKUP(C316,#REF!,3,0)&VLOOKUP(C316,#REF!,4,0),VLOOKUP(TEXT(C316,\"@\"),#REF!,3,0)&VLOOKUP(TEXT(C316,\"@\"),#REF!,4,0)))","v":""}]
[null,null,null,null,{"$f":"IF(C317=\"\",\"\",IFERROR(VLOOKUP(C317,#REF!,3,0)&VLOOKUP(C317,#REF!,4,0),VLOOKUP(TEXT(C317,\"@\"),#REF!,3,0)&VLOOKUP(TEXT(C317,\"@\"),#REF!,4,0)))","v":""}]
[null,null,null,null,{"$f":"IF(C318=\"\",\"\",IFERROR(VLOOKUP(C318,#REF!,3,0)&VLOOKUP(C318,#REF!,4,0),VLOOKUP(TEXT(C318,\"@\"),#REF!,3,0)&VLOOKUP(TEXT(C318,\"@\"),#REF!,4,0)))","v":""}]
[null,null,null,null,{"$f":"IF(C319=\"\",\"\",IFERROR(VLOOKUP(C319,#REF!,3,0)&VLOOKUP(C319,#REF!,4,0),VLOOKUP(TEXT(C319,\"@\"),#REF!,3,0)&VLOOKUP(TEXT(C319,\"@\"),#REF!,4,0)))","v":""}]
[null,null,null,null,{"$f":"IF(C320=\"\",\"\",IFERROR(VLOOKUP(C320,#REF!,3,0)&VLOOKUP(C320,#REF!,4,0),VLOOKUP(TEXT(C320,\"@\"),#REF!,3,0)&VLOOKUP(TEXT(C320,\"@\"),#REF!,4,0)))","v":""}]
[null,null,null,null,{"$f":"IF(C321=\"\",\"\",IFERROR(VLOOKUP(C321,#REF!,3,0)&VLOOKUP(C321,#REF!,4,0),VLOOKUP(TEXT(C321,\"@\"),#REF!,3,0)&VLOOKUP(TEXT(C321,\"@\"),#REF!,4,0)))","v":""}]
[null,null,null,null,{"$f":"IF(C322=\"\",\"\",IFERROR(VLOOKUP(C322,#REF!,3,0)&VLOOKUP(C322,#REF!,4,0),VLOOKUP(TEXT(C322,\"@\"),#REF!,3,0)&VLOOKUP(TEXT(C322,\"@\"),#REF!,4,0)))","v":""}]
[null,null,null,null,{"$f":"IF(C323=\"\",\"\",IFERROR(VLOOKUP(C323,#REF!,3,0)&VLOOKUP(C323,#REF!,4,0),VLOOKUP(TEXT(C323,\"@\"),#REF!,3,0)&VLOOKUP(TEXT(C323,\"@\"),#REF!,4,0)))","v":""}]
[null,null,null,null,{"$f":"IF(C324=\"\",\"\",IFERROR(VLOOKUP(C324,#REF!,3,0)&VLOOKUP(C324,#REF!,4,0),VLOOKUP(TEXT(C324,\"@\"),#REF!,3,0)&VLOOKUP(TEXT(C324,\"@\"),#REF!,4,0)))","v":""}]
[null,null,null,null,{"$f":"IF(C325=\"\",\"\",IFERROR(VLOOKUP(C325,#REF!,3,0)&VLOOKUP(C325,#REF!,4,0),VLOOKUP(TEXT(C325,\"@\"),#REF!,3,0)&VLOOKUP(TEXT(C325,\"@\"),#REF!,4,0)))","v":""}]
[null,null,null,null,{"$f":"IF(C326=\"\",\"\",IFERROR(VLOOKUP(C326,#REF!,3,0)&VLOOKUP(C326,#REF!,4,0),VLOOKUP(TEXT(C326,\"@\"),#REF!,3,0)&VLOOKUP(TEXT(C326,\"@\"),#REF!,4,0)))","v":""}]
[null,null,null,null,{"$f":"IF(C327=\"\",\"\",IFERROR(VLOOKUP(C327,#REF!,3,0)&VLOOKUP(C327,#REF!,4,0),VLOOKUP(TEXT(C327,\"@\"),#REF!,3,0)&VLOOKUP(TEXT(C327,\"@\"),#REF!,4,0)))","v":""}]
[null,null,null,null,{"$f":"IF(C328=\"\",\"\",IFERROR(VLOOKUP(C328,#REF!,3,0)&VLOOKUP(C328,#REF!,4,0),VLOOKUP(TEXT(C328,\"@\"),#REF!,3,0)&VLOOKUP(TEXT(C328,\"@\"),#REF!,4,0)))","v":""}]
[null,null,null,null,{"$f":"IF(C329=\"\",\"\",IFERROR(VLOOKUP(C329,#REF!,3,0)&VLOOKUP(C329,#REF!,4,0),VLOOKUP(TEXT(C329,\"@\"),#REF!,3,0)&VLOOKUP(TEXT(C329,\"@\"),#REF!,4,0)))","v":""}]
[null,null,null,null,{"$f":"IF(C330=\"\",\"\",IFERROR(VLOOKUP(C330,#REF!,3,0)&VLOOKUP(C330,#REF!,4,0),VLOOKUP(TEXT(C330,\"@\"),#REF!,3,0)&VLOOKUP(TEXT(C330,\"@\"),#REF!,4,0)))","v":""}]
[null,null,null,null,{"$f":"IF(C331=\"\",\"\",IFERROR(VLOOKUP(C331,#REF!,3,0)&VLOOKUP(C331,#REF!,4,0),VLOOKUP(TEXT(C331,\"@\"),#REF!,3,0)&VLOOKUP(TEXT(C331,\"@\"),#REF!,4,0)))","v":""}]
[null,null,null,null,{"$f":"IF(C332=\"\",\"\",IFERROR(VLOOKUP(C332,#REF!,3,0)&VLOOKUP(C332,#REF!,4,0),VLOOKUP(TEXT(C332,\"@\"),#REF!,3,0)&VLOOKUP(TEXT(C332,\"@\"),#REF!,4,0)))","v":""}]
[null,null,null,null,{"$f":"IF(C333=\"\",\"\",IFERROR(VLOOKUP(C333,#REF!,3,0)&VLOOKUP(C333,#REF!,4,0),VLOOKUP(TEXT(C333,\"@\"),#REF!,3,0)&VLOOKUP(TEXT(C333,\"@\"),#REF!,4,0)))","v":""}]
[null,null,null,null,{"$f":"IF(C334=\"\",\"\",IFERROR(VLOOKUP(C334,#REF!,3,0)&VLOOKUP(C334,#REF!,4,0),VLOOKUP(TEXT(C334,\"@\"),#REF!,3,0)&VLOOKUP(TEXT(C334,\"@\"),#REF!,4,0)))","v":""}]
[null,null,null,null,{"$f":"IF(C335=\"\",\"\",IFERROR(VLOOKUP(C335,#REF!,3,0)&VLOOKUP(C335,#REF!,4,0),VLOOKUP(TEXT(C335,\"@\"),#REF!,3,0)&VLOOKUP(TEXT(C335,\"@\"),#REF!,4,0)))","v":""}]
[null,null,null,null,{"$f":"IF(C336=\"\",\"\",IFERROR(VLOOKUP(C336,#REF!,3,0)&VLOOKUP(C336,#REF!,4,0),VLOOKUP(TEXT(C336,\"@\"),#REF!,3,0)&VLOOKUP(TEXT(C336,\"@\"),#REF!,4,0)))","v":""}]
[null,null,null,null,{"$f":"IF(C337=\"\",\"\",IFERROR(VLOOKUP(C337,#REF!,3,0)&VLOOKUP(C337,#REF!,4,0),VLOOKUP(TEXT(C337,\"@\"),#REF!,3,0)&VLOOKUP(TEXT(C337,\"@\"),#REF!,4,0)))","v":""}]
[null,null,null,null,{"$f":"IF(C338=\"\",\"\",IFERROR(VLOOKUP(C338,#REF!,3,0)&VLOOKUP(C338,#REF!,4,0),VLOOKUP(TEXT(C338,\"@\"),#REF!,3,0)&VLOOKUP(TEXT(C338,\"@\"),#REF!,4,0)))","v":""}]
[null,null,null,null,{"$f":"IF(C339=\"\",\"\",IFERROR(VLOOKUP(C339,#REF!,3,0)&VLOOKUP(C339,#REF!,4,0),VLOOKUP(TEXT(C339,\"@\"),#REF!,3,0)&VLOOKUP(TEXT(C339,\"@\"),#REF!,4,0)))","v":""}]
[null,null,null,null,{"$f":"IF(C340=\"\",\"\",IFERROR(VLOOKUP(C340,#REF!,3,0)&VLOOKUP(C340,#REF!,4,0),VLOOKUP(TEXT(C340,\"@\"),#REF!,3,0)&VLOOKUP(TEXT(C340,\"@\"),#REF!,4,0)))","v":""}]
[null,null,null,null,{"$f":"IF(C341=\"\",\"\",IFERROR(VLOOKUP(C341,#REF!,3,0)&VLOOKUP(C341,#REF!,4,0),VLOOKUP(TEXT(C341,\"@\"),#REF!,3,0)&VLOOKUP(TEXT(C341,\"@\"),#REF!,4,0)))","v":""}]
[null,null,null,null,{"$f":"IF(C342=\"\",\"\",IFERROR(VLOOKUP(C342,#REF!,3,0)&VLOOKUP(C342,#REF!,4,0),VLOOKUP(TEXT(C342,\"@\"),#REF!,3,0)&VLOOKUP(TEXT(C342,\"@\"),#REF!,4,0)))","v":""}]
[null,null,null,null,{"$f":"IF(C343=\"\",\"\",IFERROR(VLOOKUP(C343,#REF!,3,0)&VLOOKUP(C343,#REF!,4,0),VLOOKUP(TEXT(C343,\"@\"),#REF!,3,0)&VLOOKUP(TEXT(C343,\"@\"),#REF!,4,0)))","v":""}]
[null,null,null,null,{"$f":"IF(C344=\"\",\"\",IFERROR(VLOOKUP(C344,#REF!,3,0)&VLOOKUP(C344,#REF!,4,0),VLOOKUP(TEXT(C344,\"@\"),#REF!,3,0)&VLOOKUP(TEXT(C344,\"@\"),#REF!,4,0)))","v":""}]
[null,null,null,null,{"$f":"IF(C345=\"\",\"\",IFERROR(VLOOKUP(C345,#REF!,3,0)&VLOOKUP(C345,#REF!,4,0),VLOOKUP(TEXT(C345,\"@\"),#REF!,3,0)&VLOOKUP(TEXT(C345,\"@\"),#REF!,4,0)))","v":""}]
[null,null,null,null,{"$f":"IF(C346=\"\",\"\",IFERROR(VLOOKUP(C346,#REF!,3,0)&VLOOKUP(C346,#REF!,4,0),VLOOKUP(TEXT(C346,\"@\"),#REF!,3,0)&VLOOKUP(TEXT(C346,\"@\"),#REF!,4,0)))","v":""}]
[null,null,null,null,{"$f":"IF(C347=\"\",\"\",IFERROR(VLOOKUP(C347,#REF!,3,0)&VLOOKUP(C347,#REF!,4,0),VLOOKUP(TEXT(C347,\"@\"),#REF!,3,0)&VLOOKUP(TEXT(C347,\"@\"),#REF!,4,0)))","v":""}]
[null,null,null,null,{"$f":"IF(C348=\"\",\"\",IFERROR(VLOOKUP(C348,#REF!,3,0)&VLOOKUP(C348,#REF!,4,0),VLOOKUP(TEXT(C348,\"@\"),#REF!,3,0)&VLOOKUP(TEXT(C348,\"@\"),#REF!,4,0)))","v":""}]
[null,null,null,null,{"$f":"IF(C349=\"\",\"\",IFERROR(VLOOKUP(C349,#REF!,3,0)&VLOOKUP(C349,#REF!,4,0),VLOOKUP(TEXT(C349,\"@\"),#REF!,3,0)&VLOOKUP(TEXT(C349,\"@\"),#REF!,4,0)))","v":""}]
[null,null,null,null,{"$f":"IF(C350=\"\",\"\",IFERROR(VLOOKUP(C350,#REF!,3,0)&VLOOKUP(C350,#REF!,4,0),VLOOKUP(TEXT(C350,\"@\"),#REF!,3,0)&VLOOKUP(TEXT(C350,\"@\"),#REF!,4,0)))","v":""}]
[null,null,null,null,{"$f":"IF(C351=\"\",\"\",IFERROR(VLOOKUP(C351,#REF!,3,0)&VLOOKUP(C351,#REF!,4,0),VLOOKUP(TEXT(C351,\"@\"),#REF!,3,0)&VLOOKUP(TEXT(C351,\"@\"),#REF!,4,0)))","v":""}]
[null,null,null,null,{"$f":"IF(C352=\"\",\"\",IFERROR(VLOOKUP(C352,#REF!,3,0)&VLOOKUP(C352,#REF!,4,0),VLOOKUP(TEXT(C352,\"@\"),#REF!,3,0)&VLOOKUP(TEXT(C352,\"@\"),#REF!,4,0)))","v":""}]
[null,null,null,null,{"$f":"IF(C353=\"\",\"\",IFERROR(VLOOKUP(C353,#REF!,3,0)&VLOOKUP(C353,#REF!,4,0),VLOOKUP(TEXT(C353,\"@\"),#REF!,3,0)&VLOOKUP(TEXT(C353,\"@\"),#REF!,4,0)))","v":""}]
[null,null,null,null,{"$f":"IF(C354=\"\",\"\",IFERROR(VLOOKUP(C354,#REF!,3,0)&VLOOKUP(C354,#REF!,4,0),VLOOKUP(TEXT(C354,\"@\"),#REF!,3,0)&VLOOKUP(TEXT(C354,\"@\"),#REF!,4,0)))","v":""}]
[null,null,null,null,{"$f":"IF(C355=\"\",\"\",IFERROR(VLOOKUP(C355,#REF!,3,0)&VLOOKUP(C355,#REF!,4,0),VLOOKUP(TEXT(C355,\"@\"),#REF!,3,0)&VLOOKUP(TEXT(C355,\"@\"),#REF!,4,0)))","v":""}]
[null,null,null,null,{"$f":"IF(C356=\"\",\"\",IFERROR(VLOOKUP(C356,#REF!,3,0)&VLOOKUP(C356,#REF!,4,0),VLOOKUP(TEXT(C356,\"@\"),#REF!,3,0)&VLOOKUP(TEXT(C356,\"@\"),#REF!,4,0)))","v":""}]
[null,null,null,null,{"$f":"IF(C357=\"\",\"\",IFERROR(VLOOKUP(C357,#REF!,3,0)&VLOOKUP(C357,#REF!,4,0),VLOOKUP(TEXT(C357,\"@\"),#REF!,3,0)&VLOOKUP(TEXT(C357,\"@\"),#REF!,4,0)))","v":""}]
[null,null,null,null,{"$f":"IF(C358=\"\",\"\",IFERROR(VLOOKUP(C358,#REF!,3,0)&VLOOKUP(C358,#REF!,4,0),VLOOKUP(TEXT(C358,\"@\"),#REF!,3,0)&VLOOKUP(TEXT(C358,\"@\"),#REF!,4,0)))","v":""}]
[null,null,null,null,{"$f":"IF(C359=\"\",\"\",IFERROR(VLOOKUP(C359,#REF!,3,0)&VLOOKUP(C359,#REF!,4,0),VLOOKUP(TEXT(C359,\"@\"),#REF!,3,0)&VLOOKUP(TEXT(C359,\"@\"),#REF!,4,0)))","v":""}]
[null,null,null,null,{"$f":"IF(C360=\"\",\"\",IFERROR(VLOOKUP(C360,#REF!,3,0)&VLOOKUP(C360,#REF!,4,0),VLOOKUP(TEXT(C360,\"@\"),#REF!,3,0)&VLOOKUP(TEXT(C360,\"@\"),#REF!,4,0)))","v":""}]
[null,null,null,null,{"$f":"IF(C361=\"\",\"\",IFERROR(VLOOKUP(C361,#REF!,3,0)&VLOOKUP(C361,#REF!,4,0),VLOOKUP(TEXT(C361,\"@\"),#REF!,3,0)&VLOOKUP(TEXT(C361,\"@\"),#REF!,4,0)))","v":""}]
[null,null,null,null,{"$f":"IF(C362=\"\",\"\",IFERROR(VLOOKUP(C362,#REF!,3,0)&VLOOKUP(C362,#REF!,4,0),VLOOKUP(TEXT(C362,\"@\"),#REF!,3,0)&VLOOKUP(TEXT(C362,\"@\"),#REF!,4,0)))","v":""}]
[null,null,null,null,{"$f":"IF(C363=\"\",\"\",IFERROR(VLOOKUP(C363,#REF!,3,0)&VLOOKUP(C363,#REF!,4,0),VLOOKUP(TEXT(C363,\"@\"),#REF!,3,0)&VLOOKUP(TEXT(C363,\"@\"),#REF!,4,0)))","v":""}]
[null,null,null,null,{"$f":"IF(C364=\"\",\"\",IFERROR(VLOOKUP(C364,#REF!,3,0)&VLOOKUP(C364,#REF!,4,0),VLOOKUP(TEXT(C364,\"@\"),#REF!,3,0)&VLOOKUP(TEXT(C364,\"@\"),#REF!,4,0)))","v":""}]
[null,null,null,null,{"$f":"IF(C365=\"\",\"\",IFERROR(VLOOKUP(C365,#REF!,3,0)&VLOOKUP(C365,#REF!,4,0),VLOOKUP(TEXT(C365,\"@\"),#REF!,3,0)&VLOOKUP(TEXT(C365,\"@\"),#REF!,4,0)))","v":""}]
[null,null,null,null,{"$f":"IF(C366=\"\",\"\",IFERROR(VLOOKUP(C366,#REF!,3,0)&VLOOKUP(C366,#REF!,4,0),VLOOKUP(TEXT(C366,\"@\"),#REF!,3,0)&VLOOKUP(TEXT(C366,\"@\"),#REF!,4,0)))","v":""}]
[null,null,null,null,{"$f":"IF(C367=\"\",\"\",IFERROR(VLOOKUP(C367,#REF!,3,0)&VLOOKUP(C367,#REF!,4,0),VLOOKUP(TEXT(C367,\"@\"),#REF!,3,0)&VLOOKUP(TEXT(C367,\"@\"),#REF!,4,0)))","v":""}]
[null,null,null,null,{"$f":"IF(C368=\"\",\"\",IFERROR(VLOOKUP(C368,#REF!,3,0)&VLOOKUP(C368,#REF!,4,0),VLOOKUP(TEXT(C368,\"@\"),#REF!,3,0)&VLOOKUP(TEXT(C368,\"@\"),#REF!,4,0)))","v":""}]
[null,null,null,null,{"$f":"IF(C369=\"\",\"\",IFERROR(VLOOKUP(C369,#REF!,3,0)&VLOOKUP(C369,#REF!,4,0),VLOOKUP(TEXT(C369,\"@\"),#REF!,3,0)&VLOOKUP(TEXT(C369,\"@\"),#REF!,4,0)))","v":""}]
[null,null,null,null,{"$f":"IF(C370=\"\",\"\",IFERROR(VLOOKUP(C370,#REF!,3,0)&VLOOKUP(C370,#REF!,4,0),VLOOKUP(TEXT(C370,\"@\"),#REF!,3,0)&VLOOKUP(TEXT(C370,\"@\"),#REF!,4,0)))","v":""}]
[null,null,null,null,{"$f":"IF(C371=\"\",\"\",IFERROR(VLOOKUP(C371,#REF!,3,0)&VLOOKUP(C371,#REF!,4,0),VLOOKUP(TEXT(C371,\"@\"),#REF!,3,0)&VLOOKUP(TEXT(C371,\"@\"),#REF!,4,0)))","v":""}]
[null,null,null,null,{"$f":"IF(C372=\"\",\"\",IFERROR(VLOOKUP(C372,#REF!,3,0)&VLOOKUP(C372,#REF!,4,0),VLOOKUP(TEXT(C372,\"@\"),#REF!,3,0)&VLOOKUP(TEXT(C372,\"@\"),#REF!,4,0)))","v":""}]
[null,null,null,null,{"$f":"IF(C373=\"\",\"\",IFERROR(VLOOKUP(C373,#REF!,3,0)&VLOOKUP(C373,#REF!,4,0),VLOOKUP(TEXT(C373,\"@\"),#REF!,3,0)&VLOOKUP(TEXT(C373,\"@\"),#REF!,4,0)))","v":""}]
[null,null,null,null,{"$f":"IF(C374=\"\",\"\",IFERROR(VLOOKUP(C374,#REF!,3,0)&VLOOKUP(C374,#REF!,4,0),VLOOKUP(TEXT(C374,\"@\"),#REF!,3,0)&VLOOKUP(TEXT(C374,\"@\"),#REF!,4,0)))","v":""}]
[null,null,null,null,{"$f":"IF(C375=\"\",\"\",IFERROR(VLOOKUP(C375,#REF!,3,0)&VLOOKUP(C375,#REF!,4,0),VLOOKUP(TEXT(C375,\"@\"),#REF!,3,0)&VLOOKUP(TEXT(C375,\"@\"),#REF!,4,0)))","v":""}]
[null,null,null,null,{"$f":"IF(C376=\"\",\"\",IFERROR(VLOOKUP(C376,#REF!,3,0)&VLOOKUP(C376,#REF!,4,0),VLOOKUP(TEXT(C376,\"@\"),#REF!,3,0)&VLOOKUP(TEXT(C376,\"@\"),#REF!,4,0)))","v":""}]
[null,null,null,null,{"$f":"IF(C377=\"\",\"\",IFERROR(VLOOKUP(C377,#REF!,3,0)&VLOOKUP(C377,#REF!,4,0),VLOOKUP(TEXT(C377,\"@\"),#REF!,3,0)&VLOOKUP(TEXT(C377,\"@\"),#REF!,4,0)))","v":""}]
[null,null,null,null,{"$f":"IF(C378=\"\",\"\",IFERROR(VLOOKUP(C378,#REF!,3,0)&VLOOKUP(C378,#REF!,4,0),VLOOKUP(TEXT(C378,\"@\"),#REF!,3,0)&VLOOKUP(TEXT(C378,\"@\"),#REF!,4,0)))","v":""}]
[null,null,null,null,{"$f":"IF(C379=\"\",\"\",IFERROR(VLOOKUP(C379,#REF!,3,0)&VLOOKUP(C379,#REF!,4,0),VLOOKUP(TEXT(C379,\"@\"),#REF!,3,0)&VLOOKUP(TEXT(C379,\"@\"),#REF!,4,0)))","v":""}]
[null,null,null,null,{"$f":"IF(C380=\"\",\"\",IFERROR(VLOOKUP(C380,#REF!,3,0)&VLOOKUP(C380,#REF!,4,0),VLOOKUP(TEXT(C380,\"@\"),#REF!,3,0)&VLOOKUP(TEXT(C380,\"@\"),#REF!,4,0)))","v":""}]
[null,null,null,null,{"$f":"IF(C381=\"\",\"\",IFERROR(VLOOKUP(C381,#REF!,3,0)&VLOOKUP(C381,#REF!,4,0),VLOOKUP(TEXT(C381,\"@\"),#REF!,3,0)&VLOOKUP(TEXT(C381,\"@\"),#REF!,4,0)))","v":""}]
[null,null,null,null,{"$f":"IF(C382=\"\",\"\",IFERROR(VLOOKUP(C382,#REF!,3,0)&VLOOKUP(C382,#REF!,4,0),VLOOKUP(TEXT(C382,\"@\"),#REF!,3,0)&VLOOKUP(TEXT(C382,\"@\"),#REF!,4,0)))","v":""}]
[null,null,null,null,{"$f":"IF(C383=\"\",\"\",IFERROR(VLOOKUP(C383,#REF!,3,0)&VLOOKUP(C383,#REF!,4,0),VLOOKUP(TEXT(C383,\"@\"),#REF!,3,0)&VLOOKUP(TEXT(C383,\"@\"),#REF!,4,0)))","v":""}]
[null,null,null,null,{"$f":"IF(C384=\"\",\"\",IFERROR(VLOOKUP(C384,#REF!,3,0)&VLOOKUP(C384,#REF!,4,0),VLOOKUP(TEXT(C384,\"@\"),#REF!,3,0)&VLOOKUP(TEXT(C384,\"@\"),#REF!,4,0)))","v":""}]
[null,null,null,null,{"$f":"IF(C385=\"\",\"\",IFERROR(VLOOKUP(C385,#REF!,3,0)&VLOOKUP(C385,#REF!,4,0),VLOOKUP(TEXT(C385,\"@\"),#REF!,3,0)&VLOOKUP(TEXT(C385,\"@\"),#REF!,4,0)))","v":""}]
[null,null,null,null,{"$f":"IF(C386=\"\",\"\",IFERROR(VLOOKUP(C386,#REF!,3,0)&VLOOKUP(C386,#REF!,4,0),VLOOKUP(TEXT(C386,\"@\"),#REF!,3,0)&VLOOKUP(TEXT(C386,\"@\"),#REF!,4,0)))","v":""}]
[null,null,null,null,{"$f":"IF(C387=\"\",\"\",IFERROR(VLOOKUP(C387,#REF!,3,0)&VLOOKUP(C387,#REF!,4,0),VLOOKUP(TEXT(C387,\"@\"),#REF!,3,0)&VLOOKUP(TEXT(C387,\"@\"),#REF!,4,0)))","v":""}]
[null,null,null,null,{"$f":"IF(C388=\"\",\"\",IFERROR(VLOOKUP(C388,#REF!,3,0)&VLOOKUP(C388,#REF!,4,0),VLOOKUP(TEXT(C388,\"@\"),#REF!,3,0)&VLOOKUP(TEXT(C388,\"@\"),#REF!,4,0)))","v":""}]
[null,null,null,null,{"$f":"IF(C389=\"\",\"\",IFERROR(VLOOKUP(C389,#REF!,3,0)&VLOOKUP(C389,#REF!,4,0),VLOOKUP(TEXT(C389,\"@\"),#REF!,3,0)&VLOOKUP(TEXT(C389,\"@\"),#REF!,4,0)))","v":""}]
[null,null,null,null,{"$f":"IF(C390=\"\",\"\",IFERROR(VLOOKUP(C390,#REF!,3,0)&VLOOKUP(C390,#REF!,4,0),VLOOKUP(TEXT(C390,\"@\"),#REF!,3,0)&VLOOKUP(TEXT(C390,\"@\"),#REF!,4,0)))","v":""}]
[null,null,null,null,{"$f":"IF(C391=\"\",\"\",IFERROR(VLOOKUP(C391,#REF!,3,0)&VLOOKUP(C391,#REF!,4,0),VLOOKUP(TEXT(C391,\"@\"),#REF!,3,0)&VLOOKUP(TEXT(C391,\"@\"),#REF!,4,0)))","v":""}]
[null,null,null,null,{"$f":"IF(C392=\"\",\"\",IFERROR(VLOOKUP(C392,#REF!,3,0)&VLOOKUP(C392,#REF!,4,0),VLOOKUP(TEXT(C392,\"@\"),#REF!,3,0)&VLOOKUP(TEXT(C392,\"@\"),#REF!,4,0)))","v":""}]
[null,null,null,null,{"$f":"IF(C393=\"\",\"\",IFERROR(VLOOKUP(C393,#REF!,3,0)&VLOOKUP(C393,#REF!,4,0),VLOOKUP(TEXT(C393,\"@\"),#REF!,3,0)&VLOOKUP(TEXT(C393,\"@\"),#REF!,4,0)))","v":""}]
[null,null,null,null,{"$f":"IF(C394=\"\",\"\",IFERROR(VLOOKUP(C394,#REF!,3,0)&VLOOKUP(C394,#REF!,4,0),VLOOKUP(TEXT(C394,\"@\"),#REF!,3,0)&VLOOKUP(TEXT(C394,\"@\"),#REF!,4,0)))","v":""}]
[null,null,null,null,{"$f":"IF(C395=\"\",\"\",IFERROR(VLOOKUP(C395,#REF!,3,0)&VLOOKUP(C395,#REF!,4,0),VLOOKUP(TEXT(C395,\"@\"),#REF!,3,0)&VLOOKUP(TEXT(C395,\"@\"),#REF!,4,0)))","v":""}]
[null,null,null,null,{"$f":"IF(C396=\"\",\"\",IFERROR(VLOOKUP(C396,#REF!,3,0)&VLOOKUP(C396,#REF!,4,0),VLOOKUP(TEXT(C396,\"@\"),#REF!,3,0)&VLOOKUP(TEXT(C396,\"@\"),#REF!,4,0)))","v":""}]
[null,null,null,null,{"$f":"IF(C397=\"\",\"\",IFERROR(VLOOKUP(C397,#REF!,3,0)&VLOOKUP(C397,#REF!,4,0),VLOOKUP(TEXT(C397,\"@\"),#REF!,3,0)&VLOOKUP(TEXT(C397,\"@\"),#REF!,4,0)))","v":""}]
[null,null,null,null,{"$f":"IF(C398=\"\",\"\",IFERROR(VLOOKUP(C398,#REF!,3,0)&VLOOKUP(C398,#REF!,4,0),VLOOKUP(TEXT(C398,\"@\"),#REF!,3,0)&VLOOKUP(TEXT(C398,\"@\"),#REF!,4,0)))","v":""}]
[null,null,null,null,{"$f":"IF(C399=\"\",\"\",IFERROR(VLOOKUP(C399,#REF!,3,0)&VLOOKUP(C399,#REF!,4,0),VLOOKUP(TEXT(C399,\"@\"),#REF!,3,0)&VLOOKUP(TEXT(C399,\"@\"),#REF!,4,0)))","v":""}]
[null,null,null,null,{"$f":"IF(C400=\"\",\"\",IFERROR(VLOOKUP(C400,#REF!,3,0)&VLOOKUP(C400,#REF!,4,0),VLOOKUP(TEXT(C400,\"@\"),#REF!,3,0)&VLOOKUP(TEXT(C400,\"@\"),#REF!,4,0)))","v":""}]
[null,null,null,null,{"$f":"IF(C401=\"\",\"\",IFERROR(VLOOKUP(C401,#REF!,3,0)&VLOOKUP(C401,#REF!,4,0),VLOOKUP(TEXT(C401,\"@\"),#REF!,3,0)&VLOOKUP(TEXT(C401,\"@\"),#REF!,4,0)))","v":""}]
[null,null,null,null,{"$f":"IF(C402=\"\",\"\",IFERROR(VLOOKUP(C402,#REF!,3,0)&VLOOKUP(C402,#REF!,4,0),VLOOKUP(TEXT(C402,\"@\"),#REF!,3,0)&VLOOKUP(TEXT(C402,\"@\"),#REF!,4,0)))","v":""}]
[null,null,null,null,{"$f":"IF(C403=\"\",\"\",IFERROR(VLOOKUP(C403,#REF!,3,0)&VLOOKUP(C403,#REF!,4,0),VLOOKUP(TEXT(C403,\"@\"),#REF!,3,0)&VLOOKUP(TEXT(C403,\"@\"),#REF!,4,0)))","v":""}]
[null,null,null,null,{"$f":"IF(C404=\"\",\"\",IFERROR(VLOOKUP(C404,#REF!,3,0)&VLOOKUP(C404,#REF!,4,0),VLOOKUP(TEXT(C404,\"@\"),#REF!,3,0)&VLOOKUP(TEXT(C404,\"@\"),#REF!,4,0)))","v":""}]
[null,null,null,null,{"$f":"IF(C405=\"\",\"\",IFERROR(VLOOKUP(C405,#REF!,3,0)&VLOOKUP(C405,#REF!,4,0),VLOOKUP(TEXT(C405,\"@\"),#REF!,3,0)&VLOOKUP(TEXT(C405,\"@\"),#REF!,4,0)))","v":""}]
[null,null,null,null,{"$f":"IF(C406=\"\",\"\",IFERROR(VLOOKUP(C406,#REF!,3,0)&VLOOKUP(C406,#REF!,4,0),VLOOKUP(TEXT(C406,\"@\"),#REF!,3,0)&VLOOKUP(TEXT(C406,\"@\"),#REF!,4,0)))","v":""}]
[null,null,null,null,{"$f":"IF(C407=\"\",\"\",IFERROR(VLOOKUP(C407,#REF!,3,0)&VLOOKUP(C407,#REF!,4,0),VLOOKUP(TEXT(C407,\"@\"),#REF!,3,0)&VLOOKUP(TEXT(C407,\"@\"),#REF!,4,0)))","v":""}]
[null,null,null,null,{"$f":"IF(C408=\"\",\"\",IFERROR(VLOOKUP(C408,#REF!,3,0)&VLOOKUP(C408,#REF!,4,0),VLOOKUP(TEXT(C408,\"@\"),#REF!,3,0)&VLOOKUP(TEXT(C408,\"@\"),#REF!,4,0)))","v":""}]
[null,null,null,null,{"$f":"IF(C409=\"\",\"\",IFERROR(VLOOKUP(C409,#REF!,3,0)&VLOOKUP(C409,#REF!,4,0),VLOOKUP(TEXT(C409,\"@\"),#REF!,3,0)&VLOOKUP(TEXT(C409,\"@\"),#REF!,4,0)))","v":""}]
[null,null,null,null,{"$f":"IF(C410=\"\",\"\",IFERROR(VLOOKUP(C410,#REF!,3,0)&VLOOKUP(C410,#REF!,4,0),VLOOKUP(TEXT(C410,\"@\"),#REF!,3,0)&VLOOKUP(TEXT(C410,\"@\"),#REF!,4,0)))","v":""}]
[null,null,null,null,{"$f":"IF(C411=\"\",\"\",IFERROR(VLOOKUP(C411,#REF!,3,0)&VLOOKUP(C411,#REF!,4,0),VLOOKUP(TEXT(C411,\"@\"),#REF!,3,0)&VLOOKUP(TEXT(C411,\"@\"),#REF!,4,0)))","v":""}]
[null,null,null,null,{"$f":"IF(C412=\"\",\"\",IFERROR(VLOOKUP(C412,#REF!,3,0)&VLOOKUP(C412,#REF!,4,0),VLOOKUP(TEXT(C412,\"@\"),#REF!,3,0)&VLOOKUP(TEXT(C412,\"@\"),#REF!,4,0)))","v":""}]
[null,null,null,null,{"$f":"IF(C413=\"\",\"\",IFERROR(VLOOKUP(C413,#REF!,3,0)&VLOOKUP(C413,#REF!,4,0),VLOOKUP(TEXT(C413,\"@\"),#REF!,3,0)&VLOOKUP(TEXT(C413,\"@\"),#REF!,4,0)))","v":""}]
[null,null,null,null,{"$f":"IF(C414=\"\",\"\",IFERROR(VLOOKUP(C414,#REF!,3,0)&VLOOKUP(C414,#REF!,4,0),VLOOKUP(TEXT(C414,\"@\"),#REF!,3,0)&VLOOKUP(TEXT(C414,\"@\"),#REF!,4,0)))","v":""}]
[null,null,null,null,{"$f":"IF(C415=\"\",\"\",IFERROR(VLOOKUP(C415,#REF!,3,0)&VLOOKUP(C415,#REF!,4,0),VLOOKUP(TEXT(C415,\"@\"),#REF!,3,0)&VLOOKUP(TEXT(C415,\"@\"),#REF!,4,0)))","v":""}]
[null,null,null,null,{"$f":"IF(C416=\"\",\"\",IFERROR(VLOOKUP(C416,#REF!,3,0)&VLOOKUP(C416,#REF!,4,0),VLOOKUP(TEXT(C416,\"@\"),#REF!,3,0)&VLOOKUP(TEXT(C416,\"@\"),#REF!,4,0)))","v":""}]
[null,null,null,null,{"$f":"IF(C417=\"\",\"\",IFERROR(VLOOKUP(C417,#REF!,3,0)&VLOOKUP(C417,#REF!,4,0),VLOOKUP(TEXT(C417,\"@\"),#REF!,3,0)&VLOOKUP(TEXT(C417,\"@\"),#REF!,4,0)))","v":""}]
[null,null,null,null,{"$f":"IF(C418=\"\",\"\",IFERROR(VLOOKUP(C418,#REF!,3,0)&VLOOKUP(C418,#REF!,4,0),VLOOKUP(TEXT(C418,\"@\"),#REF!,3,0)&VLOOKUP(TEXT(C418,\"@\"),#REF!,4,0)))","v":""}]
[null,null,null,null,{"$f":"IF(C419=\"\",\"\",IFERROR(VLOOKUP(C419,#REF!,3,0)&VLOOKUP(C419,#REF!,4,0),VLOOKUP(TEXT(C419,\"@\"),#REF!,3,0)&VLOOKUP(TEXT(C419,\"@\"),#REF!,4,0)))","v":""}]
[null,null,null,null,{"$f":"IF(C420=\"\",\"\",IFERROR(VLOOKUP(C420,#REF!,3,0)&VLOOKUP(C420,#REF!,4,0),VLOOKUP(TEXT(C420,\"@\"),#REF!,3,0)&VLOOKUP(TEXT(C420,\"@\"),#REF!,4,0)))","v":""}]
[null,null,null,null,{"$f":"IF(C421=\"\",\"\",IFERROR(VLOOKUP(C421,#REF!,3,0)&VLOOKUP(C421,#REF!,4,0),VLOOKUP(TEXT(C421,\"@\"),#REF!,3,0)&VLOOKUP(TEXT(C421,\"@\"),#REF!,4,0)))","v":""}]
[null,null,null,null,{"$f":"IF(C422=\"\",\"\",IFERROR(VLOOKUP(C422,#REF!,3,0)&VLOOKUP(C422,#REF!,4,0),VLOOKUP(TEXT(C422,\"@\"),#REF!,3,0)&VLOOKUP(TEXT(C422,\"@\"),#REF!,4,0)))","v":""}]
[null,null,null,null,{"$f":"IF(C423=\"\",\"\",IFERROR(VLOOKUP(C423,#REF!,3,0)&VLOOKUP(C423,#REF!,4,0),VLOOKUP(TEXT(C423,\"@\"),#REF!,3,0)&VLOOKUP(TEXT(C423,\"@\"),#REF!,4,0)))","v":""}]
[null,null,null,null,{"$f":"IF(C424=\"\",\"\",IFERROR(VLOOKUP(C424,#REF!,3,0)&VLOOKUP(C424,#REF!,4,0),VLOOKUP(TEXT(C424,\"@\"),#REF!,3,0)&VLOOKUP(TEXT(C424,\"@\"),#REF!,4,0)))","v":""}]
[null,null,null,null,{"$f":"IF(C425=\"\",\"\",IFERROR(VLOOKUP(C425,#REF!,3,0)&VLOOKUP(C425,#REF!,4,0),VLOOKUP(TEXT(C425,\"@\"),#REF!,3,0)&VLOOKUP(TEXT(C425,\"@\"),#REF!,4,0)))","v":""}]
[null,null,null,null,{"$f":"IF(C426=\"\",\"\",IFERROR(VLOOKUP(C426,#REF!,3,0)&VLOOKUP(C426,#REF!,4,0),VLOOKUP(TEXT(C426,\"@\"),#REF!,3,0)&VLOOKUP(TEXT(C426,\"@\"),#REF!,4,0)))","v":""}]
[null,null,null,null,{"$f":"IF(C427=\"\",\"\",IFERROR(VLOOKUP(C427,#REF!,3,0)&VLOOKUP(C427,#REF!,4,0),VLOOKUP(TEXT(C427,\"@\"),#REF!,3,0)&VLOOKUP(TEXT(C427,\"@\"),#REF!,4,0)))","v":""}]
[null,null,null,null,{"$f":"IF(C428=\"\",\"\",IFERROR(VLOOKUP(C428,#REF!,3,0)&VLOOKUP(C428,#REF!,4,0),VLOOKUP(TEXT(C428,\"@\"),#REF!,3,0)&VLOOKUP(TEXT(C428,\"@\"),#REF!,4,0)))","v":""}]
[null,null,null,null,{"$f":"IF(C429=\"\",\"\",IFERROR(VLOOKUP(C429,#REF!,3,0)&VLOOKUP(C429,#REF!,4,0),VLOOKUP(TEXT(C429,\"@\"),#REF!,3,0)&VLOOKUP(TEXT(C429,\"@\"),#REF!,4,0)))","v":""}]
[null,null,null,null,{"$f":"IF(C430=\"\",\"\",IFERROR(VLOOKUP(C430,#REF!,3,0)&VLOOKUP(C430,#REF!,4,0),VLOOKUP(TEXT(C430,\"@\"),#REF!,3,0)&VLOOKUP(TEXT(C430,\"@\"),#REF!,4,0)))","v":""}]
[null,null,null,null,{"$f":"IF(C431=\"\",\"\",IFERROR(VLOOKUP(C431,#REF!,3,0)&VLOOKUP(C431,#REF!,4,0),VLOOKUP(TEXT(C431,\"@\"),#REF!,3,0)&VLOOKUP(TEXT(C431,\"@\"),#REF!,4,0)))","v":""}]
[null,null,null,null,{"$f":"IF(C432=\"\",\"\",IFERROR(VLOOKUP(C432,#REF!,3,0)&VLOOKUP(C432,#REF!,4,0),VLOOKUP(TEXT(C432,\"@\"),#REF!,3,0)&VLOOKUP(TEXT(C432,\"@\"),#REF!,4,0)))","v":""}]
[null,null,null,null,{"$f":"IF(C433=\"\",\"\",IFERROR(VLOOKUP(C433,#REF!,3,0)&VLOOKUP(C433,#REF!,4,0),VLOOKUP(TEXT(C433,\"@\"),#REF!,3,0)&VLOOKUP(TEXT(C433,\"@\"),#REF!,4,0)))","v":""}]
[null,null,null,null,{"$f":"IF(C434=\"\",\"\",IFERROR(VLOOKUP(C434,#REF!,3,0)&VLOOKUP(C434,#REF!,4,0),VLOOKUP(TEXT(C434,\"@\"),#REF!,3,0)&VLOOKUP(TEXT(C434,\"@\"),#REF!,4,0)))","v":""}]
[null,null,null,null,{"$f":"IF(C435=\"\",\"\",IFERROR(VLOOKUP(C435,#REF!,3,0)&VLOOKUP(C435,#REF!,4,0),VLOOKUP(TEXT(C435,\"@\"),#REF!,3,0)&VLOOKUP(TEXT(C435,\"@\"),#REF!,4,0)))","v":""}]
[null,null,null,null,{"$f":"IF(C436=\"\",\"\",IFERROR(VLOOKUP(C436,#REF!,3,0)&VLOOKUP(C436,#REF!,4,0),VLOOKUP(TEXT(C436,\"@\"),#REF!,3,0)&VLOOKUP(TEXT(C436,\"@\"),#REF!,4,0)))","v":""}]
[null,null,null,null,{"$f":"IF(C437=\"\",\"\",IFERROR(VLOOKUP(C437,#REF!,3,0)&VLOOKUP(C437,#REF!,4,0),VLOOKUP(TEXT(C437,\"@\"),#REF!,3,0)&VLOOKUP(TEXT(C437,\"@\"),#REF!,4,0)))","v":""}]
[null,null,null,null,{"$f":"IF(C438=\"\",\"\",IFERROR(VLOOKUP(C438,#REF!,3,0)&VLOOKUP(C438,#REF!,4,0),VLOOKUP(TEXT(C438,\"@\"),#REF!,3,0)&VLOOKUP(TEXT(C438,\"@\"),#REF!,4,0)))","v":""}]
[null,null,null,null,{"$f":"IF(C439=\"\",\"\",IFERROR(VLOOKUP(C439,#REF!,3,0)&VLOOKUP(C439,#REF!,4,0),VLOOKUP(TEXT(C439,\"@\"),#REF!,3,0)&VLOOKUP(TEXT(C439,\"@\"),#REF!,4,0)))","v":""}]
[null,null,null,null,{"$f":"IF(C440=\"\",\"\",IFERROR(VLOOKUP(C440,#REF!,3,0)&VLOOKUP(C440,#REF!,4,0),VLOOKUP(TEXT(C440,\"@\"),#REF!,3,0)&VLOOKUP(TEXT(C440,\"@\"),#REF!,4,0)))","v":""}]
[null,null,null,null,{"$f":"IF(C441=\"\",\"\",IFERROR(VLOOKUP(C441,#REF!,3,0)&VLOOKUP(C441,#REF!,4,0),VLOOKUP(TEXT(C441,\"@\"),#REF!,3,0)&VLOOKUP(TEXT(C441,\"@\"),#REF!,4,0)))","v":""}]
[null,null,null,null,{"$f":"IF(C442=\"\",\"\",IFERROR(VLOOKUP(C442,#REF!,3,0)&VLOOKUP(C442,#REF!,4,0),VLOOKUP(TEXT(C442,\"@\"),#REF!,3,0)&VLOOKUP(TEXT(C442,\"@\"),#REF!,4,0)))","v":""}]
[null,null,null,null,{"$f":"IF(C443=\"\",\"\",IFERROR(VLOOKUP(C443,#REF!,3,0)&VLOOKUP(C443,#REF!,4,0),VLOOKUP(TEXT(C443,\"@\"),#REF!,3,0)&VLOOKUP(TEXT(C443,\"@\"),#REF!,4,0)))","v":""}]
[null,null,null,null,{"$f":"IF(C444=\"\",\"\",IFERROR(VLOOKUP(C444,#REF!,3,0)&VLOOKUP(C444,#REF!,4,0),VLOOKUP(TEXT(C444,\"@\"),#REF!,3,0)&VLOOKUP(TEXT(C444,\"@\"),#REF!,4,0)))","v":""}]
[null,null,null,null,{"$f":"IF(C445=\"\",\"\",IFERROR(VLOOKUP(C445,#REF!,3,0)&VLOOKUP(C445,#REF!,4,0),VLOOKUP(TEXT(C445,\"@\"),#REF!,3,0)&VLOOKUP(TEXT(C445,\"@\"),#REF!,4,0)))","v":""}]
[null,null,null,null,{"$f":"IF(C446=\"\",\"\",IFERROR(VLOOKUP(C446,#REF!,3,0)&VLOOKUP(C446,#REF!,4,0),VLOOKUP(TEXT(C446,\"@\"),#REF!,3,0)&VLOOKUP(TEXT(C446,\"@\"),#REF!,4,0)))","v":""}]
[null,null,null,null,{"$f":"IF(C447=\"\",\"\",IFERROR(VLOOKUP(C447,#REF!,3,0)&VLOOKUP(C447,#REF!,4,0),VLOOKUP(TEXT(C447,\"@\"),#REF!,3,0)&VLOOKUP(TEXT(C447,\"@\"),#REF!,4,0)))","v":""}]
[null,null,null,null,{"$f":"IF(C448=\"\",\"\",IFERROR(VLOOKUP(C448,#REF!,3,0)&VLOOKUP(C448,#REF!,4,0),VLOOKUP(TEXT(C448,\"@\"),#REF!,3,0)&VLOOKUP(TEXT(C448,\"@\"),#REF!,4,0)))","v":""}]
[null,null,null,null,{"$f":"IF(C449=\"\",\"\",IFERROR(VLOOKUP(C449,#REF!,3,0)&VLOOKUP(C449,#REF!,4,0),VLOOKUP(TEXT(C449,\"@\"),#REF!,3,0)&VLOOKUP(TEXT(C449,\"@\"),#REF!,4,0)))","v":""}]
[null,null,null,null,{"$f":"IF(C450=\"\",\"\",IFERROR(VLOOKUP(C450,#REF!,3,0)&VLOOKUP(C450,#REF!,4,0),VLOOKUP(TEXT(C450,\"@\"),#REF!,3,0)&VLOOKUP(TEXT(C450,\"@\"),#REF!,4,0)))","v":""}]
[null,null,null,null,{"$f":"IF(C451=\"\",\"\",IFERROR(VLOOKUP(C451,#REF!,3,0)&VLOOKUP(C451,#REF!,4,0),VLOOKUP(TEXT(C451,\"@\"),#REF!,3,0)&VLOOKUP(TEXT(C451,\"@\"),#REF!,4,0)))","v":""}]
[null,null,null,null,{"$f":"IF(C452=\"\",\"\",IFERROR(VLOOKUP(C452,#REF!,3,0)&VLOOKUP(C452,#REF!,4,0),VLOOKUP(TEXT(C452,\"@\"),#REF!,3,0)&VLOOKUP(TEXT(C452,\"@\"),#REF!,4,0)))","v":""}]
[null,null,null,null,{"$f":"IF(C453=\"\",\"\",IFERROR(VLOOKUP(C453,#REF!,3,0)&VLOOKUP(C453,#REF!,4,0),VLOOKUP(TEXT(C453,\"@\"),#REF!,3,0)&VLOOKUP(TEXT(C453,\"@\"),#REF!,4,0)))","v":""}]
[null,null,null,null,{"$f":"IF(C454=\"\",\"\",IFERROR(VLOOKUP(C454,#REF!,3,0)&VLOOKUP(C454,#REF!,4,0),VLOOKUP(TEXT(C454,\"@\"),#REF!,3,0)&VLOOKUP(TEXT(C454,\"@\"),#REF!,4,0)))","v":""}]
[null,null,null,null,{"$f":"IF(C455=\"\",\"\",IFERROR(VLOOKUP(C455,#REF!,3,0)&VLOOKUP(C455,#REF!,4,0),VLOOKUP(TEXT(C455,\"@\"),#REF!,3,0)&VLOOKUP(TEXT(C455,\"@\"),#REF!,4,0)))","v":""}]
[null,null,null,null,{"$f":"IF(C456=\"\",\"\",IFERROR(VLOOKUP(C456,#REF!,3,0)&VLOOKUP(C456,#REF!,4,0),VLOOKUP(TEXT(C456,\"@\"),#REF!,3,0)&VLOOKUP(TEXT(C456,\"@\"),#REF!,4,0)))","v":""}]
[null,null,null,null,{"$f":"IF(C457=\"\",\"\",IFERROR(VLOOKUP(C457,#REF!,3,0)&VLOOKUP(C457,#REF!,4,0),VLOOKUP(TEXT(C457,\"@\"),#REF!,3,0)&VLOOKUP(TEXT(C457,\"@\"),#REF!,4,0)))","v":""}]
[null,null,null,null,{"$f":"IF(C458=\"\",\"\",IFERROR(VLOOKUP(C458,#REF!,3,0)&VLOOKUP(C458,#REF!,4,0),VLOOKUP(TEXT(C458,\"@\"),#REF!,3,0)&VLOOKUP(TEXT(C458,\"@\"),#REF!,4,0)))","v":""}]
[null,null,null,null,{"$f":"IF(C459=\"\",\"\",IFERROR(VLOOKUP(C459,#REF!,3,0)&VLOOKUP(C459,#REF!,4,0),VLOOKUP(TEXT(C459,\"@\"),#REF!,3,0)&VLOOKUP(TEXT(C459,\"@\"),#REF!,4,0)))","v":""}]
[null,null,null,null,{"$f":"IF(C460=\"\",\"\",IFERROR(VLOOKUP(C460,#REF!,3,0)&VLOOKUP(C460,#REF!,4,0),VLOOKUP(TEXT(C460,\"@\"),#REF!,3,0)&VLOOKUP(TEXT(C460,\"@\"),#REF!,4,0)))","v":""}]
[null,null,null,null,{"$f":"IF(C461=\"\",\"\",IFERROR(VLOOKUP(C461,#REF!,3,0)&VLOOKUP(C461,#REF!,4,0),VLOOKUP(TEXT(C461,\"@\"),#REF!,3,0)&VLOOKUP(TEXT(C461,\"@\"),#REF!,4,0)))","v":""}]
[null,null,null,null,{"$f":"IF(C462=\"\",\"\",IFERROR(VLOOKUP(C462,#REF!,3,0)&VLOOKUP(C462,#REF!,4,0),VLOOKUP(TEXT(C462,\"@\"),#REF!,3,0)&VLOOKUP(TEXT(C462,\"@\"),#REF!,4,0)))","v":""}]
[null,null,null,null,{"$f":"IF(C463=\"\",\"\",IFERROR(VLOOKUP(C463,#REF!,3,0)&VLOOKUP(C463,#REF!,4,0),VLOOKUP(TEXT(C463,\"@\"),#REF!,3,0)&VLOOKUP(TEXT(C463,\"@\"),#REF!,4,0)))","v":""}]
[null,null,null,null,{"$f":"IF(C464=\"\",\"\",IFERROR(VLOOKUP(C464,#REF!,3,0)&VLOOKUP(C464,#REF!,4,0),VLOOKUP(TEXT(C464,\"@\"),#REF!,3,0)&VLOOKUP(TEXT(C464,\"@\"),#REF!,4,0)))","v":""}]
[null,null,null,null,{"$f":"IF(C465=\"\",\"\",IFERROR(VLOOKUP(C465,#REF!,3,0)&VLOOKUP(C465,#REF!,4,0),VLOOKUP(TEXT(C465,\"@\"),#REF!,3,0)&VLOOKUP(TEXT(C465,\"@\"),#REF!,4,0)))","v":""}]
[null,null,null,null,{"$f":"IF(C466=\"\",\"\",IFERROR(VLOOKUP(C466,#REF!,3,0)&VLOOKUP(C466,#REF!,4,0),VLOOKUP(TEXT(C466,\"@\"),#REF!,3,0)&VLOOKUP(TEXT(C466,\"@\"),#REF!,4,0)))","v":""}]
[null,null,null,null,{"$f":"IF(C467=\"\",\"\",IFERROR(VLOOKUP(C467,#REF!,3,0)&VLOOKUP(C467,#REF!,4,0),VLOOKUP(TEXT(C467,\"@\"),#REF!,3,0)&VLOOKUP(TEXT(C467,\"@\"),#REF!,4,0)))","v":""}]
[null,null,null,null,{"$f":"IF(C468=\"\",\"\",IFERROR(VLOOKUP(C468,#REF!,3,0)&VLOOKUP(C468,#REF!,4,0),VLOOKUP(TEXT(C468,\"@\"),#REF!,3,0)&VLOOKUP(TEXT(C468,\"@\"),#REF!,4,0)))","v":""}]
[null,null,null,null,{"$f":"IF(C469=\"\",\"\",IFERROR(VLOOKUP(C469,#REF!,3,0)&VLOOKUP(C469,#REF!,4,0),VLOOKUP(TEXT(C469,\"@\"),#REF!,3,0)&VLOOKUP(TEXT(C469,\"@\"),#REF!,4,0)))","v":""}]
[null,null,null,null,{"$f":"IF(C470=\"\",\"\",IFERROR(VLOOKUP(C470,#REF!,3,0)&VLOOKUP(C470,#REF!,4,0),VLOOKUP(TEXT(C470,\"@\"),#REF!,3,0)&VLOOKUP(TEXT(C470,\"@\"),#REF!,4,0)))","v":""}]
[null,null,null,null,{"$f":"IF(C471=\"\",\"\",IFERROR(VLOOKUP(C471,#REF!,3,0)&VLOOKUP(C471,#REF!,4,0),VLOOKUP(TEXT(C471,\"@\"),#REF!,3,0)&VLOOKUP(TEXT(C471,\"@\"),#REF!,4,0)))","v":""}]
[null,null,null,null,{"$f":"IF(C472=\"\",\"\",IFERROR(VLOOKUP(C472,#REF!,3,0)&VLOOKUP(C472,#REF!,4,0),VLOOKUP(TEXT(C472,\"@\"),#REF!,3,0)&VLOOKUP(TEXT(C472,\"@\"),#REF!,4,0)))","v":""}]
[null,null,null,null,{"$f":"IF(C473=\"\",\"\",IFERROR(VLOOKUP(C473,#REF!,3,0)&VLOOKUP(C473,#REF!,4,0),VLOOKUP(TEXT(C473,\"@\"),#REF!,3,0)&VLOOKUP(TEXT(C473,\"@\"),#REF!,4,0)))","v":""}]
[null,null,null,null,{"$f":"IF(C474=\"\",\"\",IFERROR(VLOOKUP(C474,#REF!,3,0)&VLOOKUP(C474,#REF!,4,0),VLOOKUP(TEXT(C474,\"@\"),#REF!,3,0)&VLOOKUP(TEXT(C474,\"@\"),#REF!,4,0)))","v":""}]
[null,null,null,null,{"$f":"IF(C475=\"\",\"\",IFERROR(VLOOKUP(C475,#REF!,3,0)&VLOOKUP(C475,#REF!,4,0),VLOOKUP(TEXT(C475,\"@\"),#REF!,3,0)&VLOOKUP(TEXT(C475,\"@\"),#REF!,4,0)))","v":""}]
[null,null,null,null,{"$f":"IF(C476=\"\",\"\",IFERROR(VLOOKUP(C476,#REF!,3,0)&VLOOKUP(C476,#REF!,4,0),VLOOKUP(TEXT(C476,\"@\"),#REF!,3,0)&VLOOKUP(TEXT(C476,\"@\"),#REF!,4,0)))","v":""}]
[null,null,null,null,{"$f":"IF(C477=\"\",\"\",IFERROR(VLOOKUP(C477,#REF!,3,0)&VLOOKUP(C477,#REF!,4,0),VLOOKUP(TEXT(C477,\"@\"),#REF!,3,0)&VLOOKUP(TEXT(C477,\"@\"),#REF!,4,0)))","v":""}]
[null,null,null,null,{"$f":"IF(C478=\"\",\"\",IFERROR(VLOOKUP(C478,#REF!,3,0)&VLOOKUP(C478,#REF!,4,0),VLOOKUP(TEXT(C478,\"@\"),#REF!,3,0)&VLOOKUP(TEXT(C478,\"@\"),#REF!,4,0)))","v":""}]
[null,null,null,null,{"$f":"IF(C479=\"\",\"\",IFERROR(VLOOKUP(C479,#REF!,3,0)&VLOOKUP(C479,#REF!,4,0),VLOOKUP(TEXT(C479,\"@\"),#REF!,3,0)&VLOOKUP(TEXT(C479,\"@\"),#REF!,4,0)))","v":""}]
[null,null,null,null,{"$f":"IF(C480=\"\",\"\",IFERROR(VLOOKUP(C480,#REF!,3,0)&VLOOKUP(C480,#REF!,4,0),VLOOKUP(TEXT(C480,\"@\"),#REF!,3,0)&VLOOKUP(TEXT(C480,\"@\"),#REF!,4,0)))","v":""}]
[null,null,null,null,{"$f":"IF(C481=\"\",\"\",IFERROR(VLOOKUP(C481,#REF!,3,0)&VLOOKUP(C481,#REF!,4,0),VLOOKUP(TEXT(C481,\"@\"),#REF!,3,0)&VLOOKUP(TEXT(C481,\"@\"),#REF!,4,0)))","v":""}]
[null,null,null,null,{"$f":"IF(C482=\"\",\"\",IFERROR(VLOOKUP(C482,#REF!,3,0)&VLOOKUP(C482,#REF!,4,0),VLOOKUP(TEXT(C482,\"@\"),#REF!,3,0)&VLOOKUP(TEXT(C482,\"@\"),#REF!,4,0)))","v":""}]
[null,null,null,null,{"$f":"IF(C483=\"\",\"\",IFERROR(VLOOKUP(C483,#REF!,3,0)&VLOOKUP(C483,#REF!,4,0),VLOOKUP(TEXT(C483,\"@\"),#REF!,3,0)&VLOOKUP(TEXT(C483,\"@\"),#REF!,4,0)))","v":""}]
[null,null,null,null,{"$f":"IF(C484=\"\",\"\",IFERROR(VLOOKUP(C484,#REF!,3,0)&VLOOKUP(C484,#REF!,4,0),VLOOKUP(TEXT(C484,\"@\"),#REF!,3,0)&VLOOKUP(TEXT(C484,\"@\"),#REF!,4,0)))","v":""}]
[null,null,null,null,{"$f":"IF(C485=\"\",\"\",IFERROR(VLOOKUP(C485,#REF!,3,0)&VLOOKUP(C485,#REF!,4,0),VLOOKUP(TEXT(C485,\"@\"),#REF!,3,0)&VLOOKUP(TEXT(C485,\"@\"),#REF!,4,0)))","v":""}]
[null,null,null,null,{"$f":"IF(C486=\"\",\"\",IFERROR(VLOOKUP(C486,#REF!,3,0)&VLOOKUP(C486,#REF!,4,0),VLOOKUP(TEXT(C486,\"@\"),#REF!,3,0)&VLOOKUP(TEXT(C486,\"@\"),#REF!,4,0)))","v":""}]
[null,null,null,null,{"$f":"IF(C487=\"\",\"\",IFERROR(VLOOKUP(C487,#REF!,3,0)&VLOOKUP(C487,#REF!,4,0),VLOOKUP(TEXT(C487,\"@\"),#REF!,3,0)&VLOOKUP(TEXT(C487,\"@\"),#REF!,4,0)))","v":""}]
[null,null,null,null,{"$f":"IF(C488=\"\",\"\",IFERROR(VLOOKUP(C488,#REF!,3,0)&VLOOKUP(C488,#REF!,4,0),VLOOKUP(TEXT(C488,\"@\"),#REF!,3,0)&VLOOKUP(TEXT(C488,\"@\"),#REF!,4,0)))","v":""}]
[null,null,null,null,{"$f":"IF(C489=\"\",\"\",IFERROR(VLOOKUP(C489,#REF!,3,0)&VLOOKUP(C489,#REF!,4,0),VLOOKUP(TEXT(C489,\"@\"),#REF!,3,0)&VLOOKUP(TEXT(C489,\"@\"),#REF!,4,0)))","v":""}]
[null,null,null,null,{"$f":"IF(C490=\"\",\"\",IFERROR(VLOOKUP(C490,#REF!,3,0)&VLOOKUP(C490,#REF!,4,0),VLOOKUP(TEXT(C490,\"@\"),#REF!,3,0)&VLOOKUP(TEXT(C490,\"@\"),#REF!,4,0)))","v":""}]
[null,null,null,null,{"$f":"IF(C491=\"\",\"\",IFERROR(VLOOKUP(C491,#REF!,3,0)&VLOOKUP(C491,#REF!,4,0),VLOOKUP(TEXT(C491,\"@\"),#REF!,3,0)&VLOOKUP(TEXT(C491,\"@\"),#REF!,4,0)))","v":""}]
[null,null,null,null,{"$f":"IF(C492=\"\",\"\",IFERROR(VLOOKUP(C492,#REF!,3,0)&VLOOKUP(C492,#REF!,4,0),VLOOKUP(TEXT(C492,\"@\"),#REF!,3,0)&VLOOKUP(TEXT(C492,\"@\"),#REF!,4,0)))","v":""}]
[null,null,null,null,{"$f":"IF(C493=\"\",\"\",IFERROR(VLOOKUP(C493,#REF!,3,0)&VLOOKUP(C493,#REF!,4,0),VLOOKUP(TEXT(C493,\"@\"),#REF!,3,0)&VLOOKUP(TEXT(C493,\"@\"),#REF!,4,0)))","v":""}]
[null,null,null,null,{"$f":"IF(C494=\"\",\"\",IFERROR(VLOOKUP(C494,#REF!,3,0)&VLOOKUP(C494,#REF!,4,0),VLOOKUP(TEXT(C494,\"@\"),#REF!,3,0)&VLOOKUP(TEXT(C494,\"@\"),#REF!,4,0)))","v":""}]
[null,null,null,null,{"$f":"IF(C495=\"\",\"\",IFERROR(VLOOKUP(C495,#REF!,3,0)&VLOOKUP(C495,#REF!,4,0),VLOOKUP(TEXT(C495,\"@\"),#REF!,3,0)&VLOOKUP(TEXT(C495,\"@\"),#REF!,4,0)))","v":""}]
[null,null,null,null,{"$f":"IF(C496=\"\",\"\",IFERROR(VLOOKUP(C496,#REF!,3,0)&VLOOKUP(C496,#REF!,4,0),VLOOKUP(TEXT(C496,\"@\"),#REF!,3,0)&VLOOKUP(TEXT(C496,\"@\"),#REF!,4,0)))","v":""}]
[null,null,null,null,{"$f":"IF(C497=\"\",\"\",IFERROR(VLOOKUP(C497,#REF!,3,0)&VLOOKUP(C497,#REF!,4,0),VLOOKUP(TEXT(C497,\"@\"),#REF!,3,0)&VLOOKUP(TEXT(C497,\"@\"),#REF!,4,0)))","v":""}]
[null,null,null,null,{"$f":"IF(C498=\"\",\"\",IFERROR(VLOOKUP(C498,#REF!,3,0)&VLOOKUP(C498,#REF!,4,0),VLOOKUP(TEXT(C498,\"@\"),#REF!,3,0)&VLOOKUP(TEXT(C498,\"@\"),#REF!,4,0)))","v":""}]
[null,null,null,null,{"$f":"IF(C499=\"\",\"\",IFERROR(VLOOKUP(C499,#REF!,3,0)&VLOOKUP(C499,#REF!,4,0),VLOOKUP(TEXT(C499,\"@\"),#REF!,3,0)&VLOOKUP(TEXT(C499,\"@\"),#REF!,4,0)))","v":""}]
[null,null,null,null,{"$f":"IF(C500=\"\",\"\",IFERROR(VLOOKUP(C500,#REF!,3,0)&VLOOKUP(C500,#REF!,4,0),VLOOKUP(TEXT(C500,\"@\"),#REF!,3,0)&VLOOKUP(TEXT(C500,\"@\"),#REF!,4,0)))","v":""}]
[null,null,null,null,{"$f":"IF(C501=\"\",\"\",IFERROR(VLOOKUP(C501,#REF!,3,0)&VLOOKUP(C501,#REF!,4,0),VLOOKUP(TEXT(C501,\"@\"),#REF!,3,0)&VLOOKUP(TEXT(C501,\"@\"),#REF!,4,0)))","v":""}]

{"sheet":"長形3号窓明","index":1,"n_rows":19,"n_cols":31,"rows_kept":19,"cut":false,"hidden":false,"merged":[]}
[{"$f":"IFERROR(IF(AD1=\"\",\"\",\"〒\"&LEFT(VLOOKUP(AD1,台帳!A:C,3,0),3)&\"-\"&MID(VLOOKUP(AD1,台帳!A:C,3,0),4,4)),\"\")","v":"〒123-4567"},null,null,null,null,null,null,null,null,null,null,null,null,null,null,null,null,null,null,null,null,null,null,null,null,null,null,null,null,2,"←表示番号"]
[{"$f":"IFERROR(IF(AD1=\"\",\"\",VLOOKUP(AD1,台帳!A:E,5,0)),\"\")","v":"△△市△△町△△△ー△"},null,null,null,null,null,null,null,null,null,null,null,null,null,null,null,null,null,null,null,null,null,null,null,null,null,null,null,null,1,"←連続印刷開始番号"]
[{"$f":"IFERROR(IF(AD1=\"\",\"\",IF(VLOOKUP(AD1,台帳!A:F,6,0)=\"\",\"\",VLOOKUP(AD1,台帳!A:F,6,0))),\"\")","v":""},null,null,null,null,null,null,null,null,null,null,null,null,null,null,null,null,null,null,null,null,null,null,null,null,null,null,null,null,3,"←連続印刷終了番号"]
[{"$f":"IFERROR(IF(AD1=\"\",\"\",VLOOKUP(AD1,台帳!A:B,2,0)&\"　様\"),\"\")","v":"△△　△△　様"}]
[]
[]
[]
[]
[null,null,null,null,null,null,null,"（ここからタイトルと本文を記入）"]
[null,null,null,null,null,null,null,null,null,null,null,null,null,null,null,null,null,null,null,null,null,null,null,null,null,null,null,null,null,"使い方"]
[null,null,null,null,null,null,null,null,null,null,null,null,null,null,null,null,null,null,null,null,null,null,null,null,null,null,null,null,null,"印刷した用紙を３つ折りにし、長形3号窓明封筒に入れると宛先が窓から見えるようになっています。"]
[null,null,null,null,null,null,null,null,null,null,null,null,null,null,null,null,null,null,null,null,null,null,null,null,null,null,null,null,null,null,"用紙サイズ：A4"]
[null,null,null,null,null,null,null,null,null,null,null,null,null,null,null,null,null,null,null,null,null,null,null,null,null,null,null,null,null,null,"封筒の型式：長形3号窓明"]
[null,null,null,null,null,null,null,null,null,null,null,null,null,null,null,null,null,null,null,null,null,null,null,null,null,null,null,null,null,"AD1セルに台帳シートのA列の数字を入れると、その行の宛先が表示されます。"]
[null,null,null,null,null,null,null,null,null,null,null,null,null,null,null,null,null,null,null,null,null,null,null,null,null,null,null,null,null,"連続で印刷したい場合はAD2セルに印刷開始行、AD3セルに印刷終了行を入力し、連続プレビューボタンを"]
[null,null,null,null,null,null,null,null,null,null,null,null,null,null,null,null,null,null,null,null,null,null,null,null,null,null,null,null,null,"押すと印刷内容が確認できます。"]
[null,null,null,null,null,null,null,null,null,null,null,null,null,null,null,null,null,null,null,null,null,null,null,null,null,null,null,null,null,"※プレビュー表示中に”印刷プレビューを閉じる”を押すと次のページが表示されます。"]
[null,null,null,null,null,null,null,null,null,null,null,null,null,null,null,null,null,null,null,null,null,null,null,null,null,null,null,null,null,"　中断する場合はEscキーを押してください。"]
[null,null,null,null,null,null,null,null,null,null,null,null,null,null,null,null,null,null,null,null,null,null,null,null,null,null,null,null,null,"問題なければ連続印刷ボタンを押して実行してください。"]

{"sheet":"長形3号横","index":2,"n_rows":21,"n_cols":30,"rows_kept":21,"cut":false,"hidden":false,"merged":[[9,0,9,14]]}
[null,null,{"$f":"IFERROR(IF(Q2=\"\",\"\",LEFT(VLOOKUP(Q2,台帳!A:C,3,0),1)),\"\")","v":"3"},null,{"$f":"IFERROR(IF(Q2=\"\",\"\",MID(VLOOKUP(Q2,台帳!A:C,3,0),2,1)),\"\")","v":"3"},null,{"$f":"IFERROR(IF(Q2=\"\",\"\",MID(VLOOKUP(Q2,台帳!A:C,3,0),3,1)),\"\")","v":"3"},null,{"$f":"IFERROR(IF(Q2=\"\",\"\",MID(VLOOKUP(Q2,台帳!A:C,3,0),4,1)),\"\")","v":"4"},null,{"$f":"IFERROR(IF(Q2=\"\",\"\",MID(VLOOKUP(Q2,台帳!A:C,3,0),5,1)),\"\")","v":"4"},null,{"$f":"IFERROR(IF(Q2=\"\",\"\",MID(VLOOKUP(Q2,台帳!A:C,3,0),6,1)),\"\")","v":"4"},null,{"$f":"IFERROR(IF(Q2=\"\",\"\",MID(VLOOKUP(Q2,台帳!A:C,3,0),7,1)),\"\")","v":"4"},null,null,null,null,null,null,null,null,null,null,null,null,null,null,0]
[null,null,null,null,null,null,null,null,null,null,null,null,null,null,null,null,3,"←表示番号"]
[null,null,null,null,null,null,null,null,null,null,null,null,null,null,null,null,1,"←連続印刷開始番号"]
[null,null,null,null,null,null,null,null,null,null,null,null,null,null,null,null,3,"←連続印刷終了番号"]
[null,null,null,null,null,null,null,null,{"$f":"IFERROR(IF(VLOOKUP(Q2,台帳!A:F,7,0)=\"\",\"\",VLOOKUP(Q2,台帳!A:F,7,0)),\"\")","v":""}]
[]
[]
[]
[]
[{"$f":"\"　\"&IFERROR(IF(Q2=\"\",\"\",VLOOKUP(Q2,台帳!A:D,4,0)&VLOOKUP(Q2,台帳!A:E,5,0)),\"\")","v":"　□□市□□町□□□ー□"}]
[null,{"$f":"\"　　\"&IFERROR(IF(Q2=\"\",\"\",VLOOKUP(Q2,台帳!A:D,4,0)&VLOOKUP(Q2,台帳!A:F,6,0)),\"\")","v":"　　サンライズ203号"}]
[]
[null,{"$f":"IFERROR(IF(VLOOKUP(Q2,台帳!A:B,2,0)=\"\",\"\",VLOOKUP(Q2,台帳!A:B,2,0))&\"　様\",\"\")","v":"□□　□□　様"},null,null,null,null,null,null,null,null,null,null,null,null,null,null,"使い方"]
[null,null,null,null,null,null,null,null,null,null,null,null,null,null,null,null,"長形3号封筒の宛名面に直接宛名を印刷します。"]
[null,null,null,null,null,null,null,null,null,null,null,null,null,null,null,null,"プリンタの設定で用紙サイズを長形3号封筒に設定してください。"]
[null,null,null,null,null,null,null,null,null,null,null,null,null,null,null,null,"Q2セルに台帳シートのA列の数字を入れると、その行の宛先が表示されます。"]
[null,null,null,null,null,null,null,null,null,null,null,null,null,null,null,null,"連続で印刷したい場合はQ3セルに印刷開始行、Q4セルに印刷終了行を入力し、連続プレビューボタンを"]
[null,null,null,null,null,null,null,null,null,null,null,null,null,null,null,null,"押すと印刷内容が確認できます。"]
[null,null,null,null,null,null,null,null,null,null,null,null,null,null,null,null,"※プレビュー表示中に”印刷プレビューを閉じる”を押すと次のページが表示されます。"]
[null,null,null,null,null,null,null,null,null,null,null,null,null,null,null,null,"　中断する場合はEscキーを押してください。"]
[null,null,null,null,null,null,null,null,null,null,null,null,null,null,null,null,"問題なければプリンターに封筒をセットし、連続印刷ボタンを押して実行してください。"]

{"sheet":"角形2号横","index":3,"n_rows":21,"n_cols":30,"rows_kept":21,"cut":false,"hidden":false,"merged":[[9,0,9,14]]}
[null,null,{"$f":"IFERROR(IF(Q2=\"\",\"\",LEFT(VLOOKUP(Q2,台帳!A:C,3,0),1)),\"\")","v":"3"},null,{"$f":"IFERROR(IF(Q2=\"\",\"\",MID(VLOOKUP(Q2,台帳!A:C,3,0),2,1)),\"\")","v":"3"},null,{"$f":"IFERROR(IF(Q2=\"\",\"\",MID(VLOOKUP(Q2,台帳!A:C,3,0),3,1)),\"\")","v":"3"},null,{"$f":"IFERROR(IF(Q2=\"\",\"\",MID(VLOOKUP(Q2,台帳!A:C,3,0),4,1)),\"\")","v":"4"},null,{"$f":"IFERROR(IF(Q2=\"\",\"\",MID(VLOOKUP(Q2,台帳!A:C,3,0),5,1)),\"\")","v":"4"},null,{"$f":"IFERROR(IF(Q2=\"\",\"\",MID(VLOOKUP(Q2,台帳!A:C,3,0),6,1)),\"\")","v":"4"},null,{"$f":"IFERROR(IF(Q2=\"\",\"\",MID(VLOOKUP(Q2,台帳!A:C,3,0),7,1)),\"\")","v":"4"},null,null,null,null,null,null,null,null,null,null,null,null,null,null,0]
[null,null,null,null,null,null,null,null,null,null,null,null,null,null,null,null,3,"←表示番号"]
[null,null,null,null,null,null,null,null,null,null,null,null,null,null,null,null,1,"←連続印刷開始番号"]
[null,null,null,null,null,null,null,null,null,null,null,null,null,null,null,null,3,"←連続印刷終了番号"]
[null,null,null,null,null,null,null,null,{"$f":"IFERROR(IF(VLOOKUP(Q2,台帳!A:F,7,0)=\"\",\"\",VLOOKUP(Q2,台帳!A:F,7,0)),\"\")","v":""}]
[]
[]
[]
[]
[{"$f":"\"　　　　　　\"&IFERROR(IF(Q2=\"\",\"\",VLOOKUP(Q2,台帳!A:D,4,0)&VLOOKUP(Q2,台帳!A:E,5,0)),\"\")","v":"　　　　　　□□市□□町□□□ー□"}]
[null,{"$f":"\"　　　\"&IFERROR(IF(Q2=\"\",\"\",VLOOKUP(Q2,台帳!A:F,6,0)),\"\")","v":"　　　サンライズ203号"}]
[]
[null,{"$f":"IFERROR(IF(VLOOKUP(Q2,台帳!A:B,2,0)=\"\",\"\",VLOOKUP(Q2,台帳!A:B,2,0))&\"　様\",\"\")","v":"□□　□□　様"},null,null,null,null,null,null,null,null,null,null,null,null,null,null,"使い方"]
[null,null,null,null,null,null,null,null,null,null,null,null,null,null,null,null,"角形2号封筒の宛名面に直接宛名を印刷します。"]
[null,null,null,null,null,null,null,null,null,null,null,null,null,null,null,null,"プリンタの設定で用紙サイズを角形２号封筒に設定してください。"]
[null,null,null,null,null,null,null,null,null,null,null,null,null,null,null,null,"Q2セルに台帳シートのA列の数字を入れると、その行の宛先が表示されます。"]
[null,null,null,null,null,null,null,null,null,null,null,null,null,null,null,null,"連続で印刷したい場合はQ3セルに印刷開始行、Q4セルに印刷終了行を入力し、連続プレビューボタンを"]
[null,null,null,null,null,null,null,null,null,null,null,null,null,null,null,null,"押すと印刷内容が確認できます。"]
[null,null,null,null,null,null,null,null,null,null,null,null,null,null,null,null,"※プレビュー表示中に”印刷プレビューを閉じる”を押すと次のページが表示されます。"]
[null,null,null,null,null,null,null,null,null,null,null,null,null,null,null,null,"　中断する場合はEscキーを押してください。"]
[null,null,null,null,null,null,null,null,null,null,null,null,null,null,null,null,"問題なければプリンターに封筒をセットし、連続印刷ボタンを押して実行してください。"]